BEGIN:VCALENDAR
VERSION:2.0
PRODID:-//Děti patří domů, z. s. - ECPv6.15.20//NONSGML v1.0//EN
CALSCALE:GREGORIAN
METHOD:PUBLISH
X-ORIGINAL-URL:https://www.detipatridomu.cz
X-WR-CALDESC:Akce na Děti patří domů, z. s.
REFRESH-INTERVAL;VALUE=DURATION:PT1H
X-Robots-Tag:noindex
X-PUBLISHED-TTL:PT1H
BEGIN:VTIMEZONE
TZID:Europe/Prague
BEGIN:DAYLIGHT
TZOFFSETFROM:+0100
TZOFFSETTO:+0200
TZNAME:CEST
DTSTART:20210328T010000
END:DAYLIGHT
BEGIN:STANDARD
TZOFFSETFROM:+0200
TZOFFSETTO:+0100
TZNAME:CET
DTSTART:20211031T010000
END:STANDARD
BEGIN:DAYLIGHT
TZOFFSETFROM:+0100
TZOFFSETTO:+0200
TZNAME:CEST
DTSTART:20220327T010000
END:DAYLIGHT
BEGIN:STANDARD
TZOFFSETFROM:+0200
TZOFFSETTO:+0100
TZNAME:CET
DTSTART:20221030T010000
END:STANDARD
BEGIN:DAYLIGHT
TZOFFSETFROM:+0100
TZOFFSETTO:+0200
TZNAME:CEST
DTSTART:20230326T010000
END:DAYLIGHT
BEGIN:STANDARD
TZOFFSETFROM:+0200
TZOFFSETTO:+0100
TZNAME:CET
DTSTART:20231029T010000
END:STANDARD
BEGIN:DAYLIGHT
TZOFFSETFROM:+0100
TZOFFSETTO:+0200
TZNAME:CEST
DTSTART:20240331T010000
END:DAYLIGHT
BEGIN:STANDARD
TZOFFSETFROM:+0200
TZOFFSETTO:+0100
TZNAME:CET
DTSTART:20241027T010000
END:STANDARD
BEGIN:DAYLIGHT
TZOFFSETFROM:+0100
TZOFFSETTO:+0200
TZNAME:CEST
DTSTART:20250330T010000
END:DAYLIGHT
BEGIN:STANDARD
TZOFFSETFROM:+0200
TZOFFSETTO:+0100
TZNAME:CET
DTSTART:20251026T010000
END:STANDARD
END:VTIMEZONE
BEGIN:VEVENT
DTSTART;TZID=Europe/Prague:20240519T093000
DTEND;TZID=Europe/Prague:20240519T113000
DTSTAMP:20260426T062911
CREATED:20240422T061930Z
LAST-MODIFIED:20240422T061930Z
UID:8214-1716111000-1716118200@www.detipatridomu.cz
SUMMARY:Charitativní komentovaná prohlídka Zámeckého parku Průhonice
DESCRIPTION:Dvouhodinová procházka nabízí vedle informacích o parku a rostlinách také příběh hraběte Silva Tarouca\, zakladatele parku. Na konci 19. století začal realizovat svoji vizi\, utvářel ojedinělý park a neopustil ho ani po otevření parku veřejnosti. V květnových dnech se park mění na „přírodní galerii obrazů“ a návštěvníci v něm zažijí „ohňostroj barev“.\nPrůvodkyně Olga Ruttnerová park obdivuje a navštěvuje již více jak 10 let. Účastníky provede přes Malé a Velké nádvoří zámku a rozárium ke světově proslulému alpiniu a dále na hlavní vyhlídku na zámek z návrší Chotobuz a vyhlídkovou věž Gloriet.\nPaní Olga provází bez nároku na honorář a výtěžek z prohlídek půjde na projekt Hosti! spolku Děti patří domů\, z.s.\nVýtěžek ze vstupenek na tuto akci podpoří projekt Hosti! spolku Děti patří domů.\nZAKOUPIT VSTUPENKU\n\nPraktické informace:\n\nSraz: 15 min před začátkem u parkovacího automatu před hlavním vstupem. Do parku vstoupí účastníci s paní Olgou.\nPři odpolední procházce je třeba dostatečná časová rezerva na parkování.\nDoba trvání: cca 2 hodiny (poté mohou návštěvníci ještě relaxovat v parku – vstupenka platí celý den).\nOmezený počet míst: skupina do 20 osob.\nDěti do 5 let zdarma.\nProcházka s komentářem je vhodná spíše pro větší účastníky.\nJe doporučena pohodlná obuv a nápoj s sebou.\n\nNemůžete se zúčastnit\, ale přesto chcete podpořit projekt? Pomozte dětem z dětského domova vzít na životní křižovatce správný směr. Podpořte projekt hosti!\n\nDAROVAT NA PROJEKT Hosti!
URL:https://www.detipatridomu.cz/akce/charitativni-komentovana-prohlidka-zameckeho-parku-pruhonice-4/
LOCATION:Zámecký park Průhonice\, Zámek 1\, Průhonice
CATEGORIES:Dobrovolník,Hostitelská péče,Svitavy,Vzdělávání
ATTACH;FMTTYPE=image/png:https://www.detipatridomu.cz/wp-content/uploads/2024/04/Pruhonice.png
END:VEVENT
BEGIN:VEVENT
DTSTART;TZID=Europe/Prague:20240518T130000
DTEND;TZID=Europe/Prague:20240518T150000
DTSTAMP:20260426T062911
CREATED:20240422T061828Z
LAST-MODIFIED:20240422T061828Z
UID:8212-1716037200-1716044400@www.detipatridomu.cz
SUMMARY:Charitativní komentovaná prohlídka Zámeckého parku Průhonice
DESCRIPTION:Dvouhodinová procházka nabízí vedle informacích o parku a rostlinách také příběh hraběte Silva Tarouca\, zakladatele parku. Na konci 19. století začal realizovat svoji vizi\, utvářel ojedinělý park a neopustil ho ani po otevření parku veřejnosti. V květnových dnech se park mění na „přírodní galerii obrazů“ a návštěvníci v něm zažijí „ohňostroj barev“.\nPrůvodkyně Olga Ruttnerová park obdivuje a navštěvuje již více jak 10 let. Účastníky provede přes Malé a Velké nádvoří zámku a rozárium ke světově proslulému alpiniu a dále na hlavní vyhlídku na zámek z návrší Chotobuz a vyhlídkovou věž Gloriet.\nPaní Olga provází bez nároku na honorář a výtěžek z prohlídek půjde na projekt Hosti! spolku Děti patří domů\, z.s.\nVýtěžek ze vstupenek na tuto akci podpoří projekt Hosti! spolku Děti patří domů.\nZAKOUPIT VSTUPENKU\n\nPraktické informace:\n\nSraz: 15 min před začátkem u parkovacího automatu před hlavním vstupem. Do parku vstoupí účastníci s paní Olgou.\nPři odpolední procházce je třeba dostatečná časová rezerva na parkování.\nDoba trvání: cca 2 hodiny (poté mohou návštěvníci ještě relaxovat v parku – vstupenka platí celý den).\nOmezený počet míst: skupina do 20 osob.\nDěti do 5 let zdarma.\nProcházka s komentářem je vhodná spíše pro větší účastníky.\nJe doporučena pohodlná obuv a nápoj s sebou.\n\nNemůžete se zúčastnit\, ale přesto chcete podpořit projekt? Pomozte dětem z dětského domova vzít na životní křižovatce správný směr. Podpořte projekt hosti!\n\nDAROVAT NA PROJEKT Hosti!
URL:https://www.detipatridomu.cz/akce/charitativni-komentovana-prohlidka-zameckeho-parku-pruhonice-3/
LOCATION:Zámecký park Průhonice\, Zámek 1\, Průhonice
CATEGORIES:Dobrovolník,Hostitelská péče,Svitavy,Vzdělávání
ATTACH;FMTTYPE=image/png:https://www.detipatridomu.cz/wp-content/uploads/2024/04/Pruhonice.png
END:VEVENT
BEGIN:VEVENT
DTSTART;TZID=Europe/Prague:20240518T093000
DTEND;TZID=Europe/Prague:20240518T113000
DTSTAMP:20260426T062911
CREATED:20240422T061527Z
LAST-MODIFIED:20240422T061606Z
UID:8209-1716024600-1716031800@www.detipatridomu.cz
SUMMARY:Charitativní komentovaná prohlídka Zámeckého parku Průhonice
DESCRIPTION:Dvouhodinová procházka nabízí vedle informacích o parku a rostlinách také příběh hraběte Silva Tarouca\, zakladatele parku. Na konci 19. století začal realizovat svoji vizi\, utvářel ojedinělý park a neopustil ho ani po otevření parku veřejnosti. V květnových dnech se park mění na „přírodní galerii obrazů“ a návštěvníci v něm zažijí „ohňostroj barev“.\nPrůvodkyně Olga Ruttnerová park obdivuje a navštěvuje již více jak 10 let. Účastníky provede přes Malé a Velké nádvoří zámku a rozárium ke světově proslulému alpiniu a dále na hlavní vyhlídku na zámek z návrší Chotobuz a vyhlídkovou věž Gloriet.\nPaní Olga provází bez nároku na honorář a výtěžek z prohlídek půjde na projekt Hosti! spolku Děti patří domů\, z.s.\nVýtěžek ze vstupenek na tuto akci podpoří projekt Hosti! spolku Děti patří domů.\nZAKOUPIT VSTUPENKU\n\nPraktické informace:\n\nSraz: 15 min před začátkem u parkovacího automatu před hlavním vstupem. Do parku vstoupí účastníci s paní Olgou.\nPři odpolední procházce je třeba dostatečná časová rezerva na parkování.\nDoba trvání: cca 2 hodiny (poté mohou návštěvníci ještě relaxovat v parku – vstupenka platí celý den).\nOmezený počet míst: skupina do 20 osob.\nDěti do 5 let zdarma.\nProcházka s komentářem je vhodná spíše pro větší účastníky.\nJe doporučena pohodlná obuv a nápoj s sebou.\n\nNemůžete se zúčastnit\, ale přesto chcete podpořit projekt? Pomozte dětem z dětského domova vzít na životní křižovatce správný směr. Podpořte projekt hosti!\n\nDAROVAT NA PROJEKT Hosti!
URL:https://www.detipatridomu.cz/akce/8209/
LOCATION:Zámecký park Průhonice\, Zámek 1\, Průhonice
CATEGORIES:Dobrovolník,Hostitelská péče,Svitavy,Vzdělávání
ATTACH;FMTTYPE=image/png:https://www.detipatridomu.cz/wp-content/uploads/2024/04/Pruhonice.png
END:VEVENT
BEGIN:VEVENT
DTSTART;TZID=Europe/Prague:20240501T130000
DTEND;TZID=Europe/Prague:20240501T170000
DTSTAMP:20260426T062911
CREATED:20240422T061247Z
LAST-MODIFIED:20240422T061631Z
UID:8207-1714568400-1714582800@www.detipatridomu.cz
SUMMARY:Charitativní komentovaná prohlídka Zámeckého parku Průhonice
DESCRIPTION:Dvouhodinová procházka nabízí vedle informacích o parku a rostlinách také příběh hraběte Silva Tarouca\, zakladatele parku. Na konci 19. století začal realizovat svoji vizi\, utvářel ojedinělý park a neopustil ho ani po otevření parku veřejnosti. V květnových dnech se park mění na „přírodní galerii obrazů“ a návštěvníci v něm zažijí „ohňostroj barev“.\nPrůvodkyně Olga Ruttnerová park obdivuje a navštěvuje již více jak 10 let. Účastníky provede přes Malé a Velké nádvoří zámku a rozárium ke světově proslulému alpiniu a dále na hlavní vyhlídku na zámek z návrší Chotobuz a vyhlídkovou věž Gloriet.\nPaní Olga provází bez nároku na honorář a výtěžek z prohlídek půjde na projekt Hosti! spolku Děti patří domů\, z.s.\nVýtěžek ze vstupenek na tuto akci podpoří projekt Hosti! spolku Děti patří domů.\nZAKOUPIT VSTUPENKU\n\nPraktické informace:\n\nSraz: 15 min před začátkem u parkovacího automatu před hlavním vstupem. Do parku vstoupí účastníci s paní Olgou.\nPři odpolední procházce je třeba dostatečná časová rezerva na parkování.\nDoba trvání: cca 2 hodiny (poté mohou návštěvníci ještě relaxovat v parku – vstupenka platí celý den).\nOmezený počet míst: skupina do 20 osob.\nDěti do 5 let zdarma.\nProcházka s komentářem je vhodná spíše pro větší účastníky.\nJe doporučena pohodlná obuv a nápoj s sebou.\n\nNemůžete se zúčastnit\, ale přesto chcete podpořit projekt? Pomozte dětem z dětského domova vzít na životní křižovatce správný směr. Podpořte projekt hosti!\n\nDAROVAT NA PROJEKT Hosti!
URL:https://www.detipatridomu.cz/akce/charitativni-komentovana-prohlidka-zameckeho-parku-pruhonice-2/
LOCATION:Zámecký park Průhonice\, Zámek 1\, Průhonice
CATEGORIES:Dobrovolník,Hostitelská péče,Svitavy,Vzdělávání
ATTACH;FMTTYPE=image/png:https://www.detipatridomu.cz/wp-content/uploads/2024/04/Pruhonice.png
END:VEVENT
BEGIN:VEVENT
DTSTART;TZID=Europe/Prague:20240501T093000
DTEND;TZID=Europe/Prague:20240501T113000
DTSTAMP:20260426T062911
CREATED:20240422T055022Z
LAST-MODIFIED:20240422T055022Z
UID:8201-1714555800-1714563000@www.detipatridomu.cz
SUMMARY:Charitativní komentovaná prohlídka Zámeckého parku Průhonice
DESCRIPTION:Dvouhodinová procházka nabízí vedle informacích o parku a rostlinách také příběh hraběte Silva Tarouca\, zakladatele parku. Na konci 19. století začal realizovat svoji vizi\, utvářel ojedinělý park a neopustil ho ani po otevření parku veřejnosti. V květnových dnech se park mění na „přírodní galerii obrazů“ a návštěvníci v něm zažijí „ohňostroj barev“.\nPrůvodkyně Olga Ruttnerová park obdivuje a navštěvuje již více jak 10 let. Účastníky provede přes Malé a Velké nádvoří zámku a rozárium ke světově proslulému alpiniu a dále na hlavní vyhlídku na zámek z návrší Chotobuz a vyhlídkovou věž Gloriet.\nPaní Olga provází bez nároku na honorář a výtěžek z prohlídek půjde na projekt Hosti! spolku Děti patří domů\, z.s.\nVýtěžek ze vstupenek na tuto akci podpoří projekt Hosti! spolku Děti patří domů.\nZAKOUPIT VSTUPENKU\n\nPraktické informace:\n\nSraz: 15 min před začátkem u parkovacího automatu před hlavním vstupem. Do parku vstoupí účastníci s paní Olgou.\nPři odpolední procházce je třeba dostatečná časová rezerva na parkování.\nDoba trvání: cca 2 hodiny (poté mohou návštěvníci ještě relaxovat v parku – vstupenka platí celý den).\nOmezený počet míst: skupina do 20 osob.\nDěti do 5 let zdarma.\nProcházka s komentářem je vhodná spíše pro větší účastníky.\nJe doporučena pohodlná obuv a nápoj s sebou.\n\nNemůžete se zúčastnit\, ale přesto chcete podpořit projekt? Pomozte dětem z dětského domova vzít na životní křižovatce správný směr. Podpořte projekt hosti!\n\nDAROVAT NA PROJEKT Hosti!
URL:https://www.detipatridomu.cz/akce/charitativni-komentovana-prohlidka-zameckeho-parku-pruhonice/
LOCATION:Zámecký park Průhonice\, Zámek 1\, Průhonice
CATEGORIES:Dobrovolník,Hostitelská péče,Svitavy,Vzdělávání
ATTACH;FMTTYPE=image/png:https://www.detipatridomu.cz/wp-content/uploads/2024/04/Pruhonice.png
END:VEVENT
BEGIN:VEVENT
DTSTART;TZID=Europe/Prague:20230919T150000
DTEND;TZID=Europe/Prague:20230919T180000
DTSTAMP:20260426T062911
CREATED:20230712T114513Z
LAST-MODIFIED:20230830T094246Z
UID:7465-1695135600-1695146400@www.detipatridomu.cz
SUMMARY:Den otevřených dveří ve Svitavách
DESCRIPTION:🍀 Zajímá vás péče o děti\, které nemohou žít ve své biologické rodině? \n🍀 Chcete se dozvědět o dobrovolnickém programu „Velký kamarád“ pro studenty a dospělé? \n🍀 Láká vás nahlédnout do zázemí neziskovky\, která již 15 let působí ve Svitavách? \n🍀 Rádi byste okoukli naši novou komunitní místnost? \n🍀 Znáte nás a rádi byste s námi prostě jen poseděli u kávy? \nVšichni jste zváni na Den otevřených dveří\, přijďte za námi 19. září v čase mezi 15:00 a 18:00 na náměstí míru 108/28. Vytvořme společně prostor pro sdílení\, dotazy\, vyprávění\, a to vše s malým občerstvením a zázemím pro děti.\nv 17:00 beseda „Proč mají děti vyrůstat v rodinách a ne v ústavech“ s MUDr. D. Zezulovou.\n  \nTěšíme se na setkání.\n  \nAkci připravujeme v rámci Týdne pro pěstounství v Pardubickém kraji. \nDoprovodný program týdne ve Svitavách:  \n\nvýstava fotografií o pěstounství s názvem „Rodina na 100%“\, výstavní prostor Fabrika\, 18. – 29. 9. 2023.\nDen otevřených dveří místního pracoviště OSPOD Svitavy\nBěh pro pěstounství kolem Rosničky\, organizátoři: místní pracoviště OSPOD a Děti patří domů\, z. s.\n\n 
URL:https://www.detipatridomu.cz/akce/den-otevrenych-dveri-ve-svitavach/
CATEGORIES:Dobrovolník,Hostitelská péče,Osvojitelé,Respit,Svitavy,Vzdělávání
ATTACH;FMTTYPE=image/jpeg:https://www.detipatridomu.cz/wp-content/uploads/2023/04/IMG_20230208_110300-Jirina-Krystufkova-scaled.jpg
END:VEVENT
BEGIN:VEVENT
DTSTART;TZID=Europe/Prague:20221106T090000
DTEND;TZID=Europe/Prague:20221106T140000
DTSTAMP:20260426T062911
CREATED:20221011T131556Z
LAST-MODIFIED:20221011T132708Z
UID:6963-1667725200-1667743200@www.detipatridomu.cz
SUMMARY:Valná hromada Děti patří domů\, z. s.
DESCRIPTION:Milí členové a příznivci Děti patří domů\, z. s.\, \npo roce vás opět zveme na Valnou hromadu Děti patří domů\, z. s. Letos se jedná o Valnou hromadu volební. \nValná hromada se bude konat výjimečně v neděli 6. 11. 2022 na Skofce ve Svitavách. Začínat budeme v 9h a končit nejpozději v 14h. Pro ty z vás\, kdo jste na Skofce ještě nebyli\, adresa je Náměstí míru 80 – vchod je však zezadu z ulice Wolkerova alej\, vchod do zahrady naproti pekárně Nopek\, brána je označena cedulí DPD. \nK projednání budou tyto body programu: \n\npřijetí nových členů VH\nschválení výsledků hospodaření za rok 2021\nschválení účetní závěrky a účetního auditu za rok 2021\nzpráva o činnosti Správní rady\nzpráva o činnosti organizace včetně aktivně probíhajících projektů\nvolby do Správní rady
URL:https://www.detipatridomu.cz/akce/valna-hromada-deti-patri-domu-z-s/
CATEGORIES:Dobrovolník,Hostitelská péče,Respit,Svitavy,Vzdělávání
ATTACH;FMTTYPE=image/png:https://www.detipatridomu.cz/wp-content/uploads/2022/10/Pozvanka-na-VH-2022-web.png
ORGANIZER;CN="Lenka Pato%C4%8Dkov%C3%A1":MAILTO:patockova@detipatridomu.cz
END:VEVENT
END:VCALENDAR