BEGIN:VCALENDAR
VERSION:2.0
PRODID:-//Děti patří domů, z. s. - ECPv6.15.20//NONSGML v1.0//EN
CALSCALE:GREGORIAN
METHOD:PUBLISH
X-WR-CALNAME:Děti patří domů, z. s.
X-ORIGINAL-URL:https://www.detipatridomu.cz
X-WR-CALDESC:Akce na Děti patří domů, z. s.
REFRESH-INTERVAL;VALUE=DURATION:PT1H
X-Robots-Tag:noindex
X-PUBLISHED-TTL:PT1H
BEGIN:VTIMEZONE
TZID:Europe/Prague
BEGIN:DAYLIGHT
TZOFFSETFROM:+0100
TZOFFSETTO:+0200
TZNAME:CEST
DTSTART:20250330T010000
END:DAYLIGHT
BEGIN:STANDARD
TZOFFSETFROM:+0200
TZOFFSETTO:+0100
TZNAME:CET
DTSTART:20251026T010000
END:STANDARD
BEGIN:DAYLIGHT
TZOFFSETFROM:+0100
TZOFFSETTO:+0200
TZNAME:CEST
DTSTART:20260329T010000
END:DAYLIGHT
BEGIN:STANDARD
TZOFFSETFROM:+0200
TZOFFSETTO:+0100
TZNAME:CET
DTSTART:20261025T010000
END:STANDARD
BEGIN:DAYLIGHT
TZOFFSETFROM:+0100
TZOFFSETTO:+0200
TZNAME:CEST
DTSTART:20270328T010000
END:DAYLIGHT
BEGIN:STANDARD
TZOFFSETFROM:+0200
TZOFFSETTO:+0100
TZNAME:CET
DTSTART:20271031T010000
END:STANDARD
END:VTIMEZONE
BEGIN:VEVENT
DTSTART;VALUE=DATE:20260320
DTEND;VALUE=DATE:20260323
DTSTAMP:20260426T004741
CREATED:20260201T070044Z
LAST-MODIFIED:20260201T073003Z
UID:9226-1773964800-1774223999@www.detipatridomu.cz
SUMMARY:2601. Respitní víkendový pobyt Výprava za jarem
DESCRIPTION:víkend 20. – 22. 3. 2026 \nMísto: KC Trstěnice \nPlná cena: 4.000 Kč \nCena pro dítě našeho klienta: 700 Kč (příspěvek na stravu a ubytování) \nVedoucí akce: Tereza Bednářová \n(tereza@detipatridomu.cz) \nSpolečně se vydáme na výpravu za jarem\, budeme vnímat změny v přírodě a užívat si čas v bezpečném a podporujícím prostředí. \nPobyt je určen pro děti osob pečujících\, kteří budou na vzdělávacím pobytu. Volná místa možné obsadit dětmi na respit. \n  \nPŘIHLÁSIT SE
URL:https://www.detipatridomu.cz/akce/2601-vyprava-za-jarem/
CATEGORIES:Respit
ATTACH;FMTTYPE=image/png:https://www.detipatridomu.cz/wp-content/uploads/2026/02/respitni-pobyt-3.png
END:VEVENT
END:VCALENDAR