BEGIN:VCALENDAR
VERSION:2.0
PRODID:-//Děti patří domů, z. s. - ECPv6.15.20//NONSGML v1.0//EN
CALSCALE:GREGORIAN
METHOD:PUBLISH
X-WR-CALNAME:Děti patří domů, z. s.
X-ORIGINAL-URL:https://www.detipatridomu.cz
X-WR-CALDESC:Akce na Děti patří domů, z. s.
REFRESH-INTERVAL;VALUE=DURATION:PT1H
X-Robots-Tag:noindex
X-PUBLISHED-TTL:PT1H
BEGIN:VTIMEZONE
TZID:Europe/Prague
BEGIN:DAYLIGHT
TZOFFSETFROM:+0100
TZOFFSETTO:+0200
TZNAME:CEST
DTSTART:20210328T010000
END:DAYLIGHT
BEGIN:STANDARD
TZOFFSETFROM:+0200
TZOFFSETTO:+0100
TZNAME:CET
DTSTART:20211031T010000
END:STANDARD
BEGIN:DAYLIGHT
TZOFFSETFROM:+0100
TZOFFSETTO:+0200
TZNAME:CEST
DTSTART:20220327T010000
END:DAYLIGHT
BEGIN:STANDARD
TZOFFSETFROM:+0200
TZOFFSETTO:+0100
TZNAME:CET
DTSTART:20221030T010000
END:STANDARD
BEGIN:DAYLIGHT
TZOFFSETFROM:+0100
TZOFFSETTO:+0200
TZNAME:CEST
DTSTART:20230326T010000
END:DAYLIGHT
BEGIN:STANDARD
TZOFFSETFROM:+0200
TZOFFSETTO:+0100
TZNAME:CET
DTSTART:20231029T010000
END:STANDARD
BEGIN:DAYLIGHT
TZOFFSETFROM:+0100
TZOFFSETTO:+0200
TZNAME:CEST
DTSTART:20240331T010000
END:DAYLIGHT
BEGIN:STANDARD
TZOFFSETFROM:+0200
TZOFFSETTO:+0100
TZNAME:CET
DTSTART:20241027T010000
END:STANDARD
BEGIN:DAYLIGHT
TZOFFSETFROM:+0100
TZOFFSETTO:+0200
TZNAME:CEST
DTSTART:20250330T010000
END:DAYLIGHT
BEGIN:STANDARD
TZOFFSETFROM:+0200
TZOFFSETTO:+0100
TZNAME:CET
DTSTART:20251026T010000
END:STANDARD
END:VTIMEZONE
BEGIN:VEVENT
DTSTART;TZID=Europe/Prague:20241018T150000
DTEND;TZID=Europe/Prague:20241020T160000
DTSTAMP:20260426T060047
CREATED:20240201T110009Z
LAST-MODIFIED:20240905T084814Z
UID:7939-1729263600-1729440000@www.detipatridomu.cz
SUMMARY:Podzim je tu!
DESCRIPTION:18. – 20. 10. 2024 \nMísto: KC Trstěnice \nVedoucí akce: Lukáš Daniš \n\nPlná cena: 3 100 Kč\nSpoluúčast za dítě v PP klienta DPD: 800 Kč\n\nPobyt je určen pro děti pěstounů\, které budou na vzdělávacím pobytu. Volná místa možné obsadit dětmi na respit. \nPŘIHLÁSIT SE
URL:https://www.detipatridomu.cz/akce/podzim-je-tu/
CATEGORIES:Pěstouni,Respit
ATTACH;FMTTYPE=image/jpeg:https://www.detipatridomu.cz/wp-content/uploads/2024/02/podzim_900x490-e1706623154909.jpg
END:VEVENT
BEGIN:VEVENT
DTSTART;TZID=Europe/Prague:20240818T160000
DTEND;TZID=Europe/Prague:20240824T160000
DTSTAMP:20260426T060047
CREATED:20240201T110023Z
LAST-MODIFIED:20240418T080508Z
UID:7934-1723996800-1724515200@www.detipatridomu.cz
SUMMARY:Cesta kolem světa
DESCRIPTION:18. 8. – 24. 8. 2023  \nMísto: Tučkova hájenka Svratouch \nVedoucí akce: Vlastimil Bednář \n\nPlná cena: 6 600 Kč\nSpoluúčast za dítě v PP klienta DPD: 2 200 Kč\n\nPobyt ve stanech\, pro děti od 5ti let. \nPŘIHLÁSIT SE
URL:https://www.detipatridomu.cz/akce/cesta-kolem-sveta/
CATEGORIES:Pěstouni,Respit
ATTACH;FMTTYPE=image/jpeg:https://www.detipatridomu.cz/wp-content/uploads/2024/01/deskovka-e1706621729805.jpg
END:VEVENT
BEGIN:VEVENT
DTSTART;TZID=Europe/Prague:20240721T160000
DTEND;TZID=Europe/Prague:20240727T160000
DTSTAMP:20260426T060047
CREATED:20240201T110010Z
LAST-MODIFIED:20240418T080659Z
UID:7929-1721577600-1722096000@www.detipatridomu.cz
SUMMARY:Z pohádky do pohádky
DESCRIPTION:21. – 27. 7.2024  \nMísto: Lhota pod Kosířem \nVedoucí akce: Mgr. Kateřina Barillová \n\nPlná cena: 7 200 Kč\nSpoluúčast za dítě v PP klienta DPD: 2 400 Kč \n\nPobyt v pevné budově\, pro všechny děti. \nPŘIHLÁSIT SE
URL:https://www.detipatridomu.cz/akce/z-pohadky-do-pohadky/
CATEGORIES:Pěstouni,Respit
ATTACH;FMTTYPE=image/jpeg:https://www.detipatridomu.cz/wp-content/uploads/2024/01/9a41d423cddaccc2f3b66c80e0a1e5c5.jpg
END:VEVENT
BEGIN:VEVENT
DTSTART;TZID=Europe/Prague:20240419T150000
DTEND;TZID=Europe/Prague:20240421T160000
DTSTAMP:20260426T060047
CREATED:20240201T110058Z
LAST-MODIFIED:20240130T145515Z
UID:7925-1713538800-1713715200@www.detipatridomu.cz
SUMMARY:Čarodějný víkend
DESCRIPTION:19. – 21. 4. 2024  \nMísto:  KC Trstěnice \nVedoucí akce: Vlastimil Bednář \n\nPlná cena: 3 100 Kč\nSpoluúčast za dítě v PP klienta DPD: 800 Kč\n\nPŘIHLÁSIT SE
URL:https://www.detipatridomu.cz/akce/carodejny-vikend/
CATEGORIES:Respit
ATTACH;FMTTYPE=image/webp:https://www.detipatridomu.cz/wp-content/uploads/2024/01/carodejnice-e1706620409298.webp
END:VEVENT
BEGIN:VEVENT
DTSTART;TZID=Europe/Prague:20240328T080000
DTEND;TZID=Europe/Prague:20240328T180000
DTSTAMP:20260426T060047
CREATED:20240201T110030Z
LAST-MODIFIED:20240130T145052Z
UID:7921-1711612800-1711648800@www.detipatridomu.cz
SUMMARY:Bongo Brno
DESCRIPTION:28. 3. 2023 \nMísto: Brno – odjezd v 8 h z nádraží ČD ve Svitavách – společná cesta vlakem. Návrat v 18 h. \nVedoucí akce: Ivana Dvořáková \n\nPlná cena: 1 400 Kč\nSpoluúčast za dítě v PP klienta DPD: 600 Kč (vlak\, vstupné do herny\, oběd).\n\nVýlet vhodný pro děti od 4 let. \nPŘIHLÁSIT SE
URL:https://www.detipatridomu.cz/akce/bongo-brno/
CATEGORIES:Respit
ATTACH;FMTTYPE=image/webp:https://www.detipatridomu.cz/wp-content/uploads/2024/01/900-e1706183876975.webp
END:VEVENT
BEGIN:VEVENT
DTSTART;TZID=Europe/Prague:20240322T150000
DTEND;TZID=Europe/Prague:20240324T160000
DTSTAMP:20260426T060047
CREATED:20240201T110030Z
LAST-MODIFIED:20240130T145722Z
UID:7915-1711119600-1711296000@www.detipatridomu.cz
SUMMARY:Jaro je tu!
DESCRIPTION:22. – 24. 3. 2024 \n Místo:  KC Trstěnice \nVedoucí akce: Bc. Radka Šmardová \n\nPlná cena: 3 100 Kč\nSpoluúčast za dítě v PP klienta DPD: 800 Kč\n\nPobyt je určen pro děti pěstounů\, které budou na vzdělávacím pobytu. Volná místa možné obsadit dětmi na respit. \nPŘIHLÁSIT SE
URL:https://www.detipatridomu.cz/akce/jaro-je-tu/
CATEGORIES:Respit
ATTACH;FMTTYPE=image/jpeg:https://www.detipatridomu.cz/wp-content/uploads/2024/02/jaro-11-e1706182668142.jpg
END:VEVENT
BEGIN:VEVENT
DTSTART;TZID=Europe/Prague:20230919T150000
DTEND;TZID=Europe/Prague:20230919T180000
DTSTAMP:20260426T060047
CREATED:20230712T114513Z
LAST-MODIFIED:20230830T094246Z
UID:7465-1695135600-1695146400@www.detipatridomu.cz
SUMMARY:Den otevřených dveří ve Svitavách
DESCRIPTION:🍀 Zajímá vás péče o děti\, které nemohou žít ve své biologické rodině? \n🍀 Chcete se dozvědět o dobrovolnickém programu „Velký kamarád“ pro studenty a dospělé? \n🍀 Láká vás nahlédnout do zázemí neziskovky\, která již 15 let působí ve Svitavách? \n🍀 Rádi byste okoukli naši novou komunitní místnost? \n🍀 Znáte nás a rádi byste s námi prostě jen poseděli u kávy? \nVšichni jste zváni na Den otevřených dveří\, přijďte za námi 19. září v čase mezi 15:00 a 18:00 na náměstí míru 108/28. Vytvořme společně prostor pro sdílení\, dotazy\, vyprávění\, a to vše s malým občerstvením a zázemím pro děti.\nv 17:00 beseda „Proč mají děti vyrůstat v rodinách a ne v ústavech“ s MUDr. D. Zezulovou.\n  \nTěšíme se na setkání.\n  \nAkci připravujeme v rámci Týdne pro pěstounství v Pardubickém kraji. \nDoprovodný program týdne ve Svitavách:  \n\nvýstava fotografií o pěstounství s názvem „Rodina na 100%“\, výstavní prostor Fabrika\, 18. – 29. 9. 2023.\nDen otevřených dveří místního pracoviště OSPOD Svitavy\nBěh pro pěstounství kolem Rosničky\, organizátoři: místní pracoviště OSPOD a Děti patří domů\, z. s.\n\n 
URL:https://www.detipatridomu.cz/akce/den-otevrenych-dveri-ve-svitavach/
CATEGORIES:Dobrovolník,Hostitelská péče,Osvojitelé,Respit,Svitavy,Vzdělávání
ATTACH;FMTTYPE=image/jpeg:https://www.detipatridomu.cz/wp-content/uploads/2023/04/IMG_20230208_110300-Jirina-Krystufkova-scaled.jpg
END:VEVENT
BEGIN:VEVENT
DTSTART;TZID=Europe/Prague:20221106T090000
DTEND;TZID=Europe/Prague:20221106T140000
DTSTAMP:20260426T060047
CREATED:20221011T131556Z
LAST-MODIFIED:20221011T132708Z
UID:6963-1667725200-1667743200@www.detipatridomu.cz
SUMMARY:Valná hromada Děti patří domů\, z. s.
DESCRIPTION:Milí členové a příznivci Děti patří domů\, z. s.\, \npo roce vás opět zveme na Valnou hromadu Děti patří domů\, z. s. Letos se jedná o Valnou hromadu volební. \nValná hromada se bude konat výjimečně v neděli 6. 11. 2022 na Skofce ve Svitavách. Začínat budeme v 9h a končit nejpozději v 14h. Pro ty z vás\, kdo jste na Skofce ještě nebyli\, adresa je Náměstí míru 80 – vchod je však zezadu z ulice Wolkerova alej\, vchod do zahrady naproti pekárně Nopek\, brána je označena cedulí DPD. \nK projednání budou tyto body programu: \n\npřijetí nových členů VH\nschválení výsledků hospodaření za rok 2021\nschválení účetní závěrky a účetního auditu za rok 2021\nzpráva o činnosti Správní rady\nzpráva o činnosti organizace včetně aktivně probíhajících projektů\nvolby do Správní rady
URL:https://www.detipatridomu.cz/akce/valna-hromada-deti-patri-domu-z-s/
CATEGORIES:Dobrovolník,Hostitelská péče,Respit,Svitavy,Vzdělávání
ATTACH;FMTTYPE=image/png:https://www.detipatridomu.cz/wp-content/uploads/2022/10/Pozvanka-na-VH-2022-web.png
ORGANIZER;CN="Lenka Pato%C4%8Dkov%C3%A1":MAILTO:patockova@detipatridomu.cz
END:VEVENT
END:VCALENDAR