BEGIN:VCALENDAR
VERSION:2.0
PRODID:-//Děti patří domů, z. s. - ECPv6.15.20//NONSGML v1.0//EN
CALSCALE:GREGORIAN
METHOD:PUBLISH
X-ORIGINAL-URL:https://www.detipatridomu.cz
X-WR-CALDESC:Akce na Děti patří domů, z. s.
REFRESH-INTERVAL;VALUE=DURATION:PT1H
X-Robots-Tag:noindex
X-PUBLISHED-TTL:PT1H
BEGIN:VTIMEZONE
TZID:Europe/Prague
BEGIN:DAYLIGHT
TZOFFSETFROM:+0100
TZOFFSETTO:+0200
TZNAME:CEST
DTSTART:20210328T010000
END:DAYLIGHT
BEGIN:STANDARD
TZOFFSETFROM:+0200
TZOFFSETTO:+0100
TZNAME:CET
DTSTART:20211031T010000
END:STANDARD
BEGIN:DAYLIGHT
TZOFFSETFROM:+0100
TZOFFSETTO:+0200
TZNAME:CEST
DTSTART:20220327T010000
END:DAYLIGHT
BEGIN:STANDARD
TZOFFSETFROM:+0200
TZOFFSETTO:+0100
TZNAME:CET
DTSTART:20221030T010000
END:STANDARD
BEGIN:DAYLIGHT
TZOFFSETFROM:+0100
TZOFFSETTO:+0200
TZNAME:CEST
DTSTART:20230326T010000
END:DAYLIGHT
BEGIN:STANDARD
TZOFFSETFROM:+0200
TZOFFSETTO:+0100
TZNAME:CET
DTSTART:20231029T010000
END:STANDARD
END:VTIMEZONE
BEGIN:VEVENT
DTSTART;TZID=Europe/Prague:20221106T090000
DTEND;TZID=Europe/Prague:20221106T140000
DTSTAMP:20260426T025458
CREATED:20221011T131556Z
LAST-MODIFIED:20221011T132708Z
UID:6963-1667725200-1667743200@www.detipatridomu.cz
SUMMARY:Valná hromada Děti patří domů\, z. s.
DESCRIPTION:Milí členové a příznivci Děti patří domů\, z. s.\, \npo roce vás opět zveme na Valnou hromadu Děti patří domů\, z. s. Letos se jedná o Valnou hromadu volební. \nValná hromada se bude konat výjimečně v neděli 6. 11. 2022 na Skofce ve Svitavách. Začínat budeme v 9h a končit nejpozději v 14h. Pro ty z vás\, kdo jste na Skofce ještě nebyli\, adresa je Náměstí míru 80 – vchod je však zezadu z ulice Wolkerova alej\, vchod do zahrady naproti pekárně Nopek\, brána je označena cedulí DPD. \nK projednání budou tyto body programu: \n\npřijetí nových členů VH\nschválení výsledků hospodaření za rok 2021\nschválení účetní závěrky a účetního auditu za rok 2021\nzpráva o činnosti Správní rady\nzpráva o činnosti organizace včetně aktivně probíhajících projektů\nvolby do Správní rady
URL:https://www.detipatridomu.cz/akce/valna-hromada-deti-patri-domu-z-s/
CATEGORIES:Dobrovolník,Hostitelská péče,Respit,Svitavy,Vzdělávání
ATTACH;FMTTYPE=image/png:https://www.detipatridomu.cz/wp-content/uploads/2022/10/Pozvanka-na-VH-2022-web.png
ORGANIZER;CN="Lenka Pato%C4%8Dkov%C3%A1":MAILTO:patockova@detipatridomu.cz
END:VEVENT
END:VCALENDAR