BEGIN:VCALENDAR
VERSION:2.0
PRODID:-//Děti patří domů, z. s. - ECPv6.15.20//NONSGML v1.0//EN
CALSCALE:GREGORIAN
METHOD:PUBLISH
X-ORIGINAL-URL:https://www.detipatridomu.cz
X-WR-CALDESC:Akce na Děti patří domů, z. s.
REFRESH-INTERVAL;VALUE=DURATION:PT1H
X-Robots-Tag:noindex
X-PUBLISHED-TTL:PT1H
BEGIN:VTIMEZONE
TZID:Europe/Prague
BEGIN:DAYLIGHT
TZOFFSETFROM:+0100
TZOFFSETTO:+0200
TZNAME:CEST
DTSTART:20240331T010000
END:DAYLIGHT
BEGIN:STANDARD
TZOFFSETFROM:+0200
TZOFFSETTO:+0100
TZNAME:CET
DTSTART:20241027T010000
END:STANDARD
BEGIN:DAYLIGHT
TZOFFSETFROM:+0100
TZOFFSETTO:+0200
TZNAME:CEST
DTSTART:20250330T010000
END:DAYLIGHT
BEGIN:STANDARD
TZOFFSETFROM:+0200
TZOFFSETTO:+0100
TZNAME:CET
DTSTART:20251026T010000
END:STANDARD
BEGIN:DAYLIGHT
TZOFFSETFROM:+0100
TZOFFSETTO:+0200
TZNAME:CEST
DTSTART:20260329T010000
END:DAYLIGHT
BEGIN:STANDARD
TZOFFSETFROM:+0200
TZOFFSETTO:+0100
TZNAME:CET
DTSTART:20261025T010000
END:STANDARD
END:VTIMEZONE
BEGIN:VEVENT
DTSTART;TZID=Europe/Prague:20251106T200000
DTEND;TZID=Europe/Prague:20251106T220000
DTSTAMP:20260426T055554
CREATED:20250201T060015Z
LAST-MODIFIED:20250131T193355Z
UID:8667-1762459200-1762466400@www.detipatridomu.cz
SUMMARY:2505. Plnoletost dítěte v PP - dospívání\, příprava na zletilost\, specifické potřeby
DESCRIPTION:Čtvrtek 6. 11. 2025 \nMísto: online\, 20 – 22 hod \nPlná cena: 600 Kč \nCena pro klienta DPD: 0 Kč \nLektor: MUDr. Dagmar Zezulová \nČasová dotace: 2 h \nVedoucí akce: Michaela Pupíková (michaela@detipatridomu.cz) \nUkončení pěstounské péče je spojeno se zletilostí dítěte\, bez ohledu na jeho aktuální zralost. V tomto období se dítě stává plně právně odpovědné za svá rozhodnutí a činy. V interaktivním semináři si povíme\, jaké konkrétní důsledky má toto období na soužití členů rodiny\, zejména pokud se jedná o dítě\, jehož vývoj je opožděn za kalendářním věkem. \n  \nPŘIHLÁŠKA
URL:https://www.detipatridomu.cz/akce/2505-plnoletost-ditete-v-pp-dospivani-priprava-na-zletilost-specificke-potreby/
CATEGORIES:Pěstouni,Vzdělávání
ATTACH;FMTTYPE=image/jpeg:https://www.detipatridomu.cz/wp-content/uploads/2025/01/couple-6652464_960_720.jpg
END:VEVENT
BEGIN:VEVENT
DTSTART;VALUE=DATE:20251115
DTEND;VALUE=DATE:20251116
DTSTAMP:20260426T055554
CREATED:20250201T060047Z
LAST-MODIFIED:20250131T200006Z
UID:8671-1763164800-1763251199@www.detipatridomu.cz
SUMMARY:2506. Potřeby jednotlivců v náhradní rodině a důsledky jejich ignorování
DESCRIPTION:Sobota 15. 11. 2025 \nMísto: nám. Míru 108/28\, Svitavy \nPlná cena: 1 850 Kč \nCena pro klienta DPD: 100 Kč \nLektor: PhDr. Štefan Šarkőzy \nČasová dotace vzdělávání: 6 h \nVedoucí akce: Mgr. Jana Kubíčková (jana@detipatridomu.cz) \nHlídání dětí zajištěno na místě. Nutno domluvit předem. \nSupervizně vedené setkání\, lektor pracuje s tématy a kazuistikami\, které přináší účastníci. Lektor je připraven poskytnout odborné informace k tématům NRP. \nV případě zájmu o akci otevřeme druhý termín v neděli 16. 11. 2025 za stejných podmínek. \nPŘIHLÁŠKA
URL:https://www.detipatridomu.cz/akce/2506-potreby-jednotlivcu-v-nahradni-rodine-a-dusledky-jejich-ignorovani/
CATEGORIES:Pěstouni,Svitavy,Vzdělávání
ATTACH;FMTTYPE=image/jpeg:https://www.detipatridomu.cz/wp-content/uploads/2025/01/people-2941951_960_720.jpg
END:VEVENT
BEGIN:VEVENT
DTSTART;VALUE=DATE:20251121
DTEND;VALUE=DATE:20251124
DTSTAMP:20260426T055554
CREATED:20250201T060020Z
LAST-MODIFIED:20250201T091513Z
UID:8710-1763683200-1763942399@www.detipatridomu.cz
SUMMARY:2515. Relaxační víkend nejen pro náhradní maminky
DESCRIPTION:21. – 23. 11. 2025 \nMísto: Penzion Statek Široký Důl \nPlná cena: 1 300 Kč \nCena pro naše současné i bývalé klientky: 800 Kč \n(ubytování 2 – 3 lůžkové pokoje s vlastním soc. zař. + strava) \nVedoucí akce: Ivana Dvořáková (dvorakova@detipatridomu.cz) \nBez vzdělávacích hodin. \nTradiční sdílecí a odpočinková akce pro maminky\, tety a babičky. Víkend s procházkami\, odpočinkem\, společným tvořením\, příprava jídel a večerního pohoštění\, sdílení. Máte chuť se před adventem odreagovat? Pojeďte s námi. \n  \nPŘIHLÁŠKA
URL:https://www.detipatridomu.cz/akce/relaxacni-vikend-nejen-pro-nahradni-maminky-2/
CATEGORIES:Pěstouni,Respit,Vzdělávání
ATTACH;FMTTYPE=image/png:https://www.detipatridomu.cz/wp-content/uploads/2025/02/Navrh-bez-nazvu.png
END:VEVENT
BEGIN:VEVENT
DTSTART;TZID=Europe/Prague:20251127T200000
DTEND;TZID=Europe/Prague:20251127T220000
DTSTAMP:20260426T055554
CREATED:20250211T131540Z
LAST-MODIFIED:20260124T173903Z
UID:8780-1764273600-1764280800@www.detipatridomu.cz
SUMMARY:2524 OSVOJITELÉ. Jak zachovat klid\, když nás děti štvou?
DESCRIPTION:Online seminář dne 27.11.2025 (20:00 – 22:00 hod)\n\nTéma: Jak zachovat klid\, když nás děti štvou ?\nLektor: Irena Kubantová\nČasová dotace vzdělávání: 2 h \nVedoucí akce: Tereza Koutská\, osvojitele@detipatridomu.cz\, +420 605 492 278\n\nJaký je rozdíl mezi mluvením NA dítě a S dítětem ? Na co si v komunikaci s malými dětmi dát pozor\, abyste si začali vzájemně naslouchat? Jak nakládat s emocemi a jakou zprávu nám nesou\, obzvláště vztek a smutek? \nPŘIHLÁSIT SE\n  \n  \nProjekt Služby pro osvojitele a osvěta NRP realizujeme díky finanční podpoře MPSV\, \nNDT Rodina\, a finanční podpoře Pardubického kraje\, dotační program Pardubický kraj pro rodinu.
URL:https://www.detipatridomu.cz/akce/2524-osvojitele-jak-zachovat-klid-kdyz-nas-deti-stvou/
LOCATION:online
CATEGORIES:Osvojitelé,Vzdělávání
ATTACH;FMTTYPE=image/jpeg:https://www.detipatridomu.cz/wp-content/uploads/2025/02/startup-594090_1280.jpg
END:VEVENT
END:VCALENDAR