BEGIN:VCALENDAR
VERSION:2.0
PRODID:-//Děti patří domů, z. s. - ECPv6.15.20//NONSGML v1.0//EN
CALSCALE:GREGORIAN
METHOD:PUBLISH
X-ORIGINAL-URL:https://www.detipatridomu.cz
X-WR-CALDESC:Akce na Děti patří domů, z. s.
REFRESH-INTERVAL;VALUE=DURATION:PT1H
X-Robots-Tag:noindex
X-PUBLISHED-TTL:PT1H
BEGIN:VTIMEZONE
TZID:Europe/Prague
BEGIN:DAYLIGHT
TZOFFSETFROM:+0100
TZOFFSETTO:+0200
TZNAME:CEST
DTSTART:20250330T010000
END:DAYLIGHT
BEGIN:STANDARD
TZOFFSETFROM:+0200
TZOFFSETTO:+0100
TZNAME:CET
DTSTART:20251026T010000
END:STANDARD
BEGIN:DAYLIGHT
TZOFFSETFROM:+0100
TZOFFSETTO:+0200
TZNAME:CEST
DTSTART:20260329T010000
END:DAYLIGHT
BEGIN:STANDARD
TZOFFSETFROM:+0200
TZOFFSETTO:+0100
TZNAME:CET
DTSTART:20261025T010000
END:STANDARD
BEGIN:DAYLIGHT
TZOFFSETFROM:+0100
TZOFFSETTO:+0200
TZNAME:CEST
DTSTART:20270328T010000
END:DAYLIGHT
BEGIN:STANDARD
TZOFFSETFROM:+0200
TZOFFSETTO:+0100
TZNAME:CET
DTSTART:20271031T010000
END:STANDARD
END:VTIMEZONE
BEGIN:VEVENT
DTSTART;TZID=Europe/Prague:20260305T200000
DTEND;TZID=Europe/Prague:20260305T220000
DTSTAMP:20260425T232926
CREATED:20260201T070011Z
LAST-MODIFIED:20260210T092023Z
UID:9288-1772740800-1772748000@www.detipatridomu.cz
SUMMARY:2661. ONLINE klub Respitní pobyty pro děti se speciálními potřebami
DESCRIPTION:Čtvrtek 5. 3. 2026\, 20:00 – 22:00\nLektor: Lukáš Daniš\, DiS.\nVedoucí akce: Mudr. Dagmar Zezulová\, dagmar@detipatridomu.cz \nPlná cena: 500 Kč\nDotovaná cena pro osvojitele: 0 Kč \nDěti v osvojení často potřebují vnímavé prostředí\, které rozumí jejich potřebám. V rámci respitních pobytů pro děti jim naši pracovníci pomáhají zažít dobrodružství v bezpečném prostředí. K tomu slouží tým vyškolených respitních pracovníků. Lektor Lukáš Daniš je jedním z nich. \n  \nPŘIHLÁSIT SE
URL:https://www.detipatridomu.cz/akce/2661-online-klub-respitni-pobyty-pro-deti-se-specialnimi-potrebami/
CATEGORIES:Osvojitelé,Vzdělávání
ATTACH;FMTTYPE=image/png:https://www.detipatridomu.cz/wp-content/uploads/2026/02/online-adopcaci.png
END:VEVENT
BEGIN:VEVENT
DTSTART;VALUE=DATE:20260319
DTEND;VALUE=DATE:20260320
DTSTAMP:20260425T232926
CREATED:20260112T084130Z
LAST-MODIFIED:20260201T075713Z
UID:9186-1773878400-1773964799@www.detipatridomu.cz
SUMMARY:2622. Terapeutické rodičovství pro příbuzenské pěstouny
DESCRIPTION:  \nV březnu začíná už třetí běh kurzu Terapeutického rodičovství\, tentokrát pro nezprostředkované pěstouny – příbuzné svěřeného dítěte. Začínáme 19. 3. 2026! \n  \nKurz nabízí praktickým a srozumitelným způsobem principy terapeutického rodičovství\, které pomáhají dětem s náročnou životní historií růst v bezpečném a léčivém prostředí.  \nV kurzu se společně zaměříme na to\, jak porozumět chování dítěte\, jak nastavovat laskavé\, ale pevné hranice\, jak zvládat náročné situace ve výchově a jak pečovat i o sebe. Zvláštní pozornost budeme věnovat také výzvám příbuzenské pěstounské péče — loajalitě v rodině\, mluvení o minulosti a podpoře dlouhodobé stability. Odnesete si konkrétní strategie a jednoduché nástroje použitelné v každodenním životě. \n  \nCo je terapeutické rodičovství? \nTerapeutické rodičovství je jedna z možností\, jak přistupovat k dětem\, které ve svém životě  zažily opuštění svými rodiči či selhání jejich péče. Cílem kurzu je zprostředkovat pečujícím příbuzným\, prarodičům a dalším příbuzným\, hlubší porozumění potřebám a chování jejich svěřených dětí. Být jim průvodci na nelehké cestě výchovou dítěte svého dítěte a vytvořit dlouhodobou podporu ze strany lektorů a v rámci účastnické skupiny díky délce kurzu.  \nVíce informací o terapeutickém rodičovství najdete např. zde. \n  \nKurz vychází z nejnovějších poznatků neurobiologie a je postaven na základech terapie DDP (Dyadické vývojové terapie)\, která je přímo zaměřena na terapii vztahu dítěte a osoby pečující. Kurz je veden dle metodiky Kim S. Goldingové – Terapeutické rodičovství. \nI když má kurz vypracovanou metodiku a velké množství materiálů\, je na kurzu dostatek prostoru pro sdílení vlastních příběhů a témat\, která souvisí s příbuzenskou pěstounskou péčí.  \n  \nPro koho je kurz určen: \nKurz je určen pro nezprostředkované pěstouny – příbuzné svěřeného dítěte. \n  \nJak bude kurz probíhat?\nBudeme se věnovat jak teorii\, tak i praktickým cvičením\, společným diskuzím a sdílení. K dispozici jsou pracovní listy a další výukové materiály. Pracovat budeme ve skupině\, někdy ve dvojicích. Podstatný prostor je věnován také sdílení  a tématům souvisejících s příbuzenskou pěstounskou péčí. \nKurz je rozložen téměř do celého roku a jeho velkou výhodou je\, že získáte dlouhodobou podporu lektorů a účastnické skupiny.  \nKurz je členěn na tři moduly: \n\n modul zahrnuje seznámení s teorií attachmentu a představuje koncept terapeutického rodičovství se speciálním důrazem na porozumění vnitřnímu světu náhradního rodiče\, tj. rozvíjení jeho vlastního vědomí mysli.\n modul představuje “Dům rodičovství” se zvláštním důrazem na vytvoření bezpečné vztahové základny.\nmodul představuje další patra Domu rodičovství s důrazem na vytváření blízkých vztahů a výchovného vedení. Ukazuje\, jak korigovat nežádoucí chování dítěte\, aniž by bylo narušeno vzájemné spojení\, rodící se důvěra a křehký pocit bezpečí.\n\nOrganizační informace: \n\nKurz je určen pro maximálně 10 účastníků\, minimální počet pro otevření kurzu je 8. \nCelková časová dotace kurzu je 54 hodin. Každý ze 3 modulů je v rozsahu 18 hodin\, které jsou rozloženy do:\n\n18 čtvrtečních setkání v čase 9 – 12 h\n\n\nSetkání probíhají v rozmezí cca 1 x 14 dní\, jsou zohledněny státní svátky a letní prázdniny. \nSetkání budou v prostorách Děti patří domů\, z. s. na nám. Míru 108/28 ve Svitavách.\nBěhem setkání je zajištěno drobné občerstvení – káva\, čaj\, ovoce/zelenina\, něco sladkého/slaného.\nHlídání dětí není zajištěno. Účast dětí na kurzu není možná. \n\nČasový harmonogram: \nModul I.: rok 2026  \nčtvrtek 19. 3.\, 9. 4.\, 23. 4.\, 7. 5.\, 28. 5. a 11. 6. 2026 \n  \nModul II. a III. podzim 2026 – začátek roku 2027 \nDalší termíny kurzu (září 2026 – březen 2027) nastavíme na začátku kurzu. \n  \nLektorky: \nKurz vedou dvě lektorky s dlouhodobou zkušeností práce s náhradními rodinami a ukončeným Komplexním vzdělávacím programem zaměřeným na problematiku práce s dětmi vyrůstajícími v náhradní rodinné péči (192 h) a kurzu Terapeutické rodičovství pro lektory (72 h).  \n  \nMgr. Lenka Patočková \nMgr. Barbora Minaříková Doubková \n  \nLektorky pracují dle Zásad práce lektora terapeutického rodičovství dle ATTA. \n  \nCena kurzu:  \nCena kurzu je 6.500 Kč.  Plná cena kurzu je 18.900 Kč.  \nDíky podpoře Nadace JT je cena kurzu dotována. \n  \nCena obsahuje lektorné\, učební pomůcky a drobné občerstvení. Kurzovné je možné uhradit ve 2 splátkách. Pěstouni mohou využít možnost financovat jej ze Státního příspěvku na výkon pěstounské péče v rámci svého povinného vzdělávání pěstounů – na aktuální možnosti se prosím informujte u své doprovodné organizace. \n  \nSplatnost a storno podmínky: \nCenu kurzu je na požádání možné rozložit do dvou splátek (uveďte v poznámce u přihlášky). První splátka ve výši 3.000 Kč je splatná do 2 týdnů od objednání kurzu. Druhá splátka 3.500 Kč je splatná do 19. 2. 2026 (4 týdny před zahájením kurzu). Pošleme vám vždy fakturu. Uhrazené kurzovné není vratné v případě storna ze strany účastníka. \n  \nJak uplatnit hodiny v rámci povinného vzdělávání pěstounů? \nObraťte se na svoji doprovázející organizaci. Klienti Děti patří domů dohodnou uplatnění hodin se svým klíčový pracovníkem. \n  \nPřihlášky: \nPřihlásit se je možné zde: \nPŘIHLÁSIT SE\n  \n  \nKontakt: \nPokud máte zájem o bližší informace ke kurzu nebo jeho náplni\, kontaktujte\, prosím\, Lenku Patočkovou na tel.: 608 491 059 nebo emailu lenka@detipatridomu.cz. \n 
URL:https://www.detipatridomu.cz/akce/terapeuticke-rodicovstvi-pro-pribuzenske-pestouny/
CATEGORIES:Pěstouni,Vzdělávání
ATTACH;FMTTYPE=image/png:https://www.detipatridomu.cz/wp-content/uploads/2026/01/bannery-uvodni-strana-9.png
END:VEVENT
BEGIN:VEVENT
DTSTART;VALUE=DATE:20260320
DTEND;VALUE=DATE:20260323
DTSTAMP:20260425T232926
CREATED:20260201T070028Z
LAST-MODIFIED:20260201T072634Z
UID:9213-1773964800-1774223999@www.detipatridomu.cz
SUMMARY:2623. Identita náhradního rodiče
DESCRIPTION:víkend 20. – 22. 3. 2026 \nLektor: Mgr. Pavel Němčík \nČasová dotace vzdělávání: 18 h \nMísto: Tereziánský dvůr Hradec Králové \nPlná cena: 9.000 Kč \nCena pro klienta DPD: 1.500 Kč \nVedoucí akce: Ivana Dvořáková \ndvorakova@detipatridomu.cz \nLetos navštívíme moderní hotelový komplex\, který se nachází v bezprostřední blízkosti historického centra Hradce Králové. Ubytování je ve dvoulůžkových pokojích. Pro jednolůžkový pokoj je nutné se při přihlášení domluvit na podmínkách a příplatku. \nÚčastníci se budou věnovat tématům jako: nároky na náhradní rodiče\, vlastní limity péče\, prevence zablokované péče\, rodičovské kompetence aj. Prostor bude také pro sdílení. Lektor je terapeut dyadické vývojové terapie – pracuje s principy terapeutického rodičovství. \n  \nPŘIHLÁSIT SE\n  \n 
URL:https://www.detipatridomu.cz/akce/2623-identita-nahradniho-rodice/
CATEGORIES:Pěstouni,Vzdělávání
ATTACH;FMTTYPE=image/png:https://www.detipatridomu.cz/wp-content/uploads/2026/02/vzdelavani-pro-pestouny-2.png
END:VEVENT
END:VCALENDAR