BEGIN:VCALENDAR
VERSION:2.0
PRODID:-//Děti patří domů, z. s. - ECPv6.15.20//NONSGML v1.0//EN
CALSCALE:GREGORIAN
METHOD:PUBLISH
X-ORIGINAL-URL:https://www.detipatridomu.cz
X-WR-CALDESC:Akce na Děti patří domů, z. s.
REFRESH-INTERVAL;VALUE=DURATION:PT1H
X-Robots-Tag:noindex
X-PUBLISHED-TTL:PT1H
BEGIN:VTIMEZONE
TZID:Europe/Prague
BEGIN:DAYLIGHT
TZOFFSETFROM:+0100
TZOFFSETTO:+0200
TZNAME:CEST
DTSTART:20250330T010000
END:DAYLIGHT
BEGIN:STANDARD
TZOFFSETFROM:+0200
TZOFFSETTO:+0100
TZNAME:CET
DTSTART:20251026T010000
END:STANDARD
BEGIN:DAYLIGHT
TZOFFSETFROM:+0100
TZOFFSETTO:+0200
TZNAME:CEST
DTSTART:20260329T010000
END:DAYLIGHT
BEGIN:STANDARD
TZOFFSETFROM:+0200
TZOFFSETTO:+0100
TZNAME:CET
DTSTART:20261025T010000
END:STANDARD
BEGIN:DAYLIGHT
TZOFFSETFROM:+0100
TZOFFSETTO:+0200
TZNAME:CEST
DTSTART:20270328T010000
END:DAYLIGHT
BEGIN:STANDARD
TZOFFSETFROM:+0200
TZOFFSETTO:+0100
TZNAME:CET
DTSTART:20271031T010000
END:STANDARD
END:VTIMEZONE
BEGIN:VEVENT
DTSTART;TZID=Europe/Prague:20260402T200000
DTEND;TZID=Europe/Prague:20260402T220000
DTSTAMP:20260426T022958
CREATED:20260201T070009Z
LAST-MODIFIED:20260322T072742Z
UID:9292-1775160000-1775167200@www.detipatridomu.cz
SUMMARY:2662. Online klub: Jak nám rozhodnutí o adopci změní život
DESCRIPTION:Čtvrtek 2. 4. 2026\, 20:00 – 22:00\nHost: Pavla Jirmanová \nPlná cena: 500 Kč\nDotovaná cena pro osvojitele: 0 Kč \nVedoucí akce: MUDr. Dagmar Zezulová\, zezulova@detipatridomu.cz \nZvažujete osvojení dítěte\, a rádi byste potkali někoho\, kdo je krůček před vámi? V online klubu vás čeká povídání s adoptivní maminkou\, které můžete klást všechny otázky\, co se vám honí hlavou \n  \nPŘIHLÁSIT SE
URL:https://www.detipatridomu.cz/akce/online-klub-jak-nam-rozhodnuti-o-adopci-zmeni-zivot/
CATEGORIES:Osvojitelé,Vzdělávání
ATTACH;FMTTYPE=image/png:https://www.detipatridomu.cz/wp-content/uploads/2026/02/online-adopcaci.png
END:VEVENT
BEGIN:VEVENT
DTSTART;VALUE=DATE:20260418
DTEND;VALUE=DATE:20260419
DTSTAMP:20260426T022958
CREATED:20260201T070033Z
LAST-MODIFIED:20260201T074454Z
UID:9215-1776470400-1776556799@www.detipatridomu.cz
SUMMARY:2624. Jednodenní vzdělávání pro pěstouny Právní otázky v doprovázení
DESCRIPTION:sobota 18. 4. 2026 \nLektor: JUDr. Soňa Soukupová \nČasová dotace: 6 h \nMísto: Svitavy\, komunitní místnost DPD \nPlná cena: 1.500 Kč \nCena pro klienta DPD: 0 Kč \nVedoucí akce: Michaela Pupíková \nmichaela@detipatridomu.cz \nNaši klienti mohou využít v čase 8:00 – 17:00 hlídání při respitním pobytu v Trstěnicích. \nChcete vědět\, jak funguje kontakt dětí v pěstounské péči s biologickými rodiči a jaká jsou práva a povinnosti pěstounů? Přijďte se seznámit s novinkou v praxi rodinného práva – „prozatímními rozhodnutími“\, která nahrazují předběžná opatření. Seminář vede JUDr. Soňa Soukupová\, opatrovnická soudkyně a předsedkyně okresního soudu v Chrudimi. Součástí bude i prostor pro vaše konkrétní dotazy. \n\nNaši klienti mohou využít kromě celého respitního pobytu pro děti v Trstěnicích také hlídání v době vzdělávání (sobota v čase 8:00 – 17:00 v Trstěnicích). Tuto formu je třeba předem domluvit přes klíčového pracovníka nebo vedoucího akce.\n\n  \nPŘIHLÁSIT SE
URL:https://www.detipatridomu.cz/akce/2624-pravni-otazky-v-doprovazeni/
CATEGORIES:Pěstouni,Vzdělávání
ATTACH;FMTTYPE=image/png:https://www.detipatridomu.cz/wp-content/uploads/2026/02/vzdelavani-pro-pestouny-2.png
END:VEVENT
BEGIN:VEVENT
DTSTART;VALUE=DATE:20260424
DTEND;VALUE=DATE:20260427
DTSTAMP:20260426T022958
CREATED:20260201T070007Z
LAST-MODIFIED:20260316T104847Z
UID:9295-1776988800-1777247999@www.detipatridomu.cz
SUMMARY:2663. Víkendový pobyt pro osvojitele Specifika školního vzdělávání u osvojených dětí
DESCRIPTION:24. – 26. 4. 2026\nLektor: Mgr. Jana Andrýsková\nMísto: Penzion Pepovka Jeseníky \nDotace vzdělávání: 12 hod \nVedoucí akce: MUDr. Dagmar Zezulová\, zezulova@detipatridomu.cz \nPlná cena: 10.000 Kč\nDotovaná cena dospělý: 4.500 Kč\nDotovaná cena dítě: 2.000 Kč\n(ubytování\, strava\, bazén a wellness) \nV srdci Jeseníků\, v prostředí krásného penzionu se potkáme s lektorkou\, která je nejen adoptivní maminkou\, ale pracuje také jako speciální pedagožka a školní psycholožka. V průběhu víkendu se zaměříme na specifika školního vzdělávání u adoptivních dětí\, možná řešení různých situací ve třídě a školním kolektivu a řekneme si\, jak může pomoci školní psycholog.\nBěhem vzdělávací akce pro rodiče zajišťujeme respitní péči o děti v bezpečném a respektujícím prostředí. Společně s dětmi budeme vítat jaro prostřednictvím hravých a tvořivých aktivit. \n  \nPŘIHLÁSIT SE\n 
URL:https://www.detipatridomu.cz/akce/2663-vikendovy-pobyt-pro-osvojitele-specifika-skolniho-vzdelavani-u-osvojenych-deti/
CATEGORIES:Osvojitelé,Vzdělávání
ATTACH;FMTTYPE=image/png:https://www.detipatridomu.cz/wp-content/uploads/2026/02/vzdelavani-osvo.png
END:VEVENT
BEGIN:VEVENT
DTSTART;VALUE=DATE:20261016
DTEND;VALUE=DATE:20261019
DTSTAMP:20260426T022958
CREATED:20260201T070055Z
LAST-MODIFIED:20260201T074810Z
UID:9217-1792108800-1792367999@www.detipatridomu.cz
SUMMARY:2625. Vzdělávací víkend\, E-bezpečí: netolismus\, soc. sítě\, kyberšikana
DESCRIPTION:víkend 16. – 18. 10. 2026 \nlektor: Mgr. Lukáš Látal \nČasová dotace: 18 h \nMísto: Tereziánský dvůr Hradec Králové \nPlná cena: 9.000 Kč \nCena pro klienta DPD: 1.500 Kč \nVedoucí akce: Ivana Dvořáková\, dvorakova@detipatridomu.cz \nLetos navštívíme moderní hotelový komplex\, který se nachází v bezprostřední blízkosti historického centra Hradce Králové. Ubytování je ve dvoulůžkových pokojích. Pro jednolůžkový pokoj je nutné se při přihlášení domluvit na podmínkách a příplatku. \nLektor přehledně představí hlavní rizika internetu a digitálních technologií\, se kterými se mohou děti setkat\, včetně kyberšikany\, kybergroomingu\, sextingu\, závislostí či problematického obsahu. Účastníci získají praktické postupy\, jak těmto hrozbám předcházet\, jak rozpoznat varovné signály a jak děti bezpečně provázet online prostředím. Součástí jsou také aktuální kazuistiky z praxe a prostor pro dotazy a diskuzi. \nPŘIHLÁSIT SE
URL:https://www.detipatridomu.cz/akce/2625-e-bezpeci-netolismus-soc-site-kybersikana/
CATEGORIES:Pěstouni,Vzdělávání
ATTACH;FMTTYPE=image/png:https://www.detipatridomu.cz/wp-content/uploads/2026/02/vzdelavani-pro-pestouny-2.png
END:VEVENT
BEGIN:VEVENT
DTSTART;VALUE=DATE:20261114
DTEND;VALUE=DATE:20261115
DTSTAMP:20260426T022958
CREATED:20260201T070033Z
LAST-MODIFIED:20260201T074924Z
UID:9219-1794614400-1794700799@www.detipatridomu.cz
SUMMARY:2626. Potřeby jednotlivců v náhradní rodině  a důsledky jejich ignorování
DESCRIPTION:Vzdělávání pro pěstouny: Sobota 14. 11. 2026 \nLektor: PhDr. Štefan Šarközy \nČasová dotace vzdělávání: 6 h \nVedoucí akce: Jana Kubíčková\, jana@detipatridomu.cz \nMísto: Místo: Svitavy\, komunitní místnost DPD \nPlná cena: 1.800 Kč \nCena pro klienta DPD: 0 Kč \n  \nSupervizně vedené setkání\, lektor pracuje s tématy a kazuistikami\, které přináší účastníci. Lektor je připraven poskytnout odborné informace k tématům NRP. \n  \nPŘIHLÁSIT SE
URL:https://www.detipatridomu.cz/akce/2626-potreby-jednotlivcu-v-nahradni-rodine-a-dusledky-jejich-ignorovani/
CATEGORIES:Pěstouni,Vzdělávání
ATTACH;FMTTYPE=image/png:https://www.detipatridomu.cz/wp-content/uploads/2026/02/vzdelavani-pro-pestouny-2.png
END:VEVENT
BEGIN:VEVENT
DTSTART;VALUE=DATE:20261115
DTEND;VALUE=DATE:20261116
DTSTAMP:20260426T022958
CREATED:20260201T070041Z
LAST-MODIFIED:20260201T075256Z
UID:9221-1794700800-1794787199@www.detipatridomu.cz
SUMMARY:2627. Potřeby jednotlivců v náhradní rodině  a důsledky jejich ignorování
DESCRIPTION:Vzdělávání pro pěstouny: neděle 15. 11. 2026 \nLektor: PhDr. Štefan Šarközy \nČasová dotace vzdělávání: 6 h \nVedoucí akce: Jana Kubíčková\, jana@detipatridomu.cz \nMísto: Svitavy\, komunitní místnost DPD \nPlná cena: 1.800 Kč \nCena pro klienta DPD: 0 Kč \n  \nSupervizně vedené setkání\, lektor pracuje s tématy a kazuistikami\, které přináší účastníci. Lektor je připraven poskytnout odborné informace k tématům NRP. \n  \nPŘIHLÁSIT SE
URL:https://www.detipatridomu.cz/akce/2627-potreby-jednotlivcu-v-nahradni-rodine-a-dusledky-jejich-ignorovani/
CATEGORIES:Pěstouni,Vzdělávání
ATTACH;FMTTYPE=image/png:https://www.detipatridomu.cz/wp-content/uploads/2026/02/vzdelavani-pro-pestouny-2.png
END:VEVENT
END:VCALENDAR