BEGIN:VCALENDAR
VERSION:2.0
PRODID:-//Děti patří domů, z. s. - ECPv6.15.20//NONSGML v1.0//EN
CALSCALE:GREGORIAN
METHOD:PUBLISH
X-WR-CALNAME:Děti patří domů, z. s.
X-ORIGINAL-URL:https://www.detipatridomu.cz
X-WR-CALDESC:Akce na Děti patří domů, z. s.
REFRESH-INTERVAL;VALUE=DURATION:PT1H
X-Robots-Tag:noindex
X-PUBLISHED-TTL:PT1H
BEGIN:VTIMEZONE
TZID:Europe/Prague
BEGIN:DAYLIGHT
TZOFFSETFROM:+0100
TZOFFSETTO:+0200
TZNAME:CEST
DTSTART:20210328T010000
END:DAYLIGHT
BEGIN:STANDARD
TZOFFSETFROM:+0200
TZOFFSETTO:+0100
TZNAME:CET
DTSTART:20211031T010000
END:STANDARD
BEGIN:DAYLIGHT
TZOFFSETFROM:+0100
TZOFFSETTO:+0200
TZNAME:CEST
DTSTART:20220327T010000
END:DAYLIGHT
BEGIN:STANDARD
TZOFFSETFROM:+0200
TZOFFSETTO:+0100
TZNAME:CET
DTSTART:20221030T010000
END:STANDARD
BEGIN:DAYLIGHT
TZOFFSETFROM:+0100
TZOFFSETTO:+0200
TZNAME:CEST
DTSTART:20230326T010000
END:DAYLIGHT
BEGIN:STANDARD
TZOFFSETFROM:+0200
TZOFFSETTO:+0100
TZNAME:CET
DTSTART:20231029T010000
END:STANDARD
BEGIN:DAYLIGHT
TZOFFSETFROM:+0100
TZOFFSETTO:+0200
TZNAME:CEST
DTSTART:20240331T010000
END:DAYLIGHT
BEGIN:STANDARD
TZOFFSETFROM:+0200
TZOFFSETTO:+0100
TZNAME:CET
DTSTART:20241027T010000
END:STANDARD
BEGIN:DAYLIGHT
TZOFFSETFROM:+0100
TZOFFSETTO:+0200
TZNAME:CEST
DTSTART:20250330T010000
END:DAYLIGHT
BEGIN:STANDARD
TZOFFSETFROM:+0200
TZOFFSETTO:+0100
TZNAME:CET
DTSTART:20251026T010000
END:STANDARD
END:VTIMEZONE
BEGIN:VEVENT
DTSTART;TZID=Europe/Prague:20240322T150000
DTEND;TZID=Europe/Prague:20240324T160000
DTSTAMP:20260426T062434
CREATED:20240201T110004Z
LAST-MODIFIED:20240220T102541Z
UID:7891-1711119600-1711296000@www.detipatridomu.cz
SUMMARY:Pěstouni: Potřeby jednotlivců v NR a důsledky jejich ignorování I.
DESCRIPTION:22. – 24. 3. 2024 \nMísto: Immanuel Slavíkov \nČasová dotace vzdělávání: 18 h \nLektor: PhDr. Štefan Šarkőzy \n\nPlná cena: 6 400 Kč\nSpoluúčast klienta DPD: 1 100 Kč\n\nUrčeno pro nepříbuzenské pěstouny. Supervizně vedené setkání.\nHlídání dětí zajištěno v Trstěnici u Svitav (viz akce pro děti). \nTéma pobytu vychází z aktuálních potřeb pěstounů\, kteří se na pobytu sejdou. Lektor pracuje supervizně a je připraven poskytnout odborné informace k tématům NRP. \nPŘIHLÁSIT SE
URL:https://www.detipatridomu.cz/akce/potreby-jednotlivcu-v-nr-a-dusledky-jejich-ignorovani-i/
LOCATION:Hotel Immanuel\, Dlouhý 1\, Slavíkov\, 582 63\, Česká republika
CATEGORIES:Vzdělávání
ATTACH;FMTTYPE=image/jpeg:https://www.detipatridomu.cz/wp-content/uploads/2024/02/NQHGH2-e1706175344908.jpeg
END:VEVENT
BEGIN:VEVENT
DTSTART;TZID=Europe/Prague:20240319T080000
DTEND;TZID=Europe/Prague:20240319T160000
DTSTAMP:20260426T062434
CREATED:20230920T094904Z
LAST-MODIFIED:20240112T055855Z
UID:7630-1710835200-1710864000@www.detipatridomu.cz
SUMMARY:Seminář pro odborníky - hostitelská péče pro děti z dětských domovů\, Brno
DESCRIPTION:Srdečně Vás zveme na seminář o hostitelské péči určený pro sociální pracovníky a odbornou veřejnost. \nProč je důležité podpořit provázení dospívajících v ústavní péči osobami blízkými \n\nJednodenní seminář s časovou dotací 8 hodin má kapacitu 12-20 účastníků. \nakreditace MPSV  A2023/0401-SP/PC/VP\n\nSeminář je zaměřen na roli sociálních pracovníků při budování dlouhodobého vztahu dospívajících z ústavní výchovy s osobami blízkými\, na přípravu na ukončení ústavní výchovy a na sdílení dobré praxe. Lektoři\, kteří tento interaktivní seminář pro vás nachystali\, mají dlouholeté zkušenosti s hostitelskou péčí pro děti z dětských domovů a s přípravou jednotlivých stran. \nDotovaná cena díky podpoře Nadace O2:\n1.100 Kč / osobu\npři účasti 2 a více osob od jednoho zaměstnavatele platí cena 900 Kč / osobu\n(plná cena je 3600 Kč)\nÚčastnice semináře o jeho přínosu:\n„Naučila jsem se hodně\, protože jsem neměla informace k možné přípravě hostitelů. Skvělé jsou osobní zkušenosti lektorů. Chci také využít e-learningového kurzu\, abych mohla zájemcům dávat co nejvíce informací.“\nTermín a místo konání: 19. 03. 2024 Brno \nPŘIHLÁSIT SE – Brno
URL:https://www.detipatridomu.cz/akce/seminar-o-hostitelske-peci-proc-je-dulezite-podporit-provazeni-dospivajiciho-v-ustavni-peci-osobami-blizkymi-2/
LOCATION:Brno\, Brno
CATEGORIES:Hostitelská péče,Vzdělávání
ATTACH;FMTTYPE=image/jpeg:https://www.detipatridomu.cz/wp-content/uploads/2023/07/DPD-spot-STILL-notext-2000x610-1-1200x366-1.jpg
END:VEVENT
BEGIN:VEVENT
DTSTART;TZID=Europe/Prague:20240309T080000
DTEND;TZID=Europe/Prague:20240309T160000
DTSTAMP:20260426T062434
CREATED:20231012T080430Z
LAST-MODIFIED:20240308T182247Z
UID:7650-1709971200-1710000000@www.detipatridomu.cz
SUMMARY:Hostitelská péče - seminář pro veřejnost Praha
DESCRIPTION:srdečně Vás zveme na Seminář pro veřejnost o hostitelské péči. \nSeminář je zaměřen na představení hostitelské péče a našich zkušeností s ní. Vzdělávací program\, kterým Vás provedou naši lektoři\, má časovou dotaci 8 hodin. \n\n\n \nTermín: 9. 3. 2023 od 8:00 do 16:00 hodin \nMísto: Korunní 810\, 101 00 Praha 10 \nCena : 950 Kč             \nV rámci semináře není zajištěna strava. \nPo vyplnění přihlášky vám zašleme e-mail s údaji k platbě a přesnou adresou konání semináře. \n\nPŘIHLÁSIT SE NA SEMINÁŘ
URL:https://www.detipatridomu.cz/akce/hostitelska-pece-seminar-pro-verejnost-praha/
LOCATION:Korunní\, Praha\, Korunní 810\, Praha
CATEGORIES:Hostitelská péče,Vzdělávání
ATTACH;FMTTYPE=image/png:https://www.detipatridomu.cz/wp-content/uploads/2023/10/Termin-5.png
END:VEVENT
BEGIN:VEVENT
DTSTART;TZID=Europe/Prague:20240307T200000
DTEND;TZID=Europe/Prague:20240307T220000
DTSTAMP:20260426T062434
CREATED:20240213T201545Z
LAST-MODIFIED:20240220T103718Z
UID:7993-1709841600-1709848800@www.detipatridomu.cz
SUMMARY:Osvojitelé online klub: TRAUMA U DĚTÍ V NRP A NÁSLEDNÉ PORUCHY ATTACHMENTU
DESCRIPTION:termín: 7. 3. 2024\, 20 – 22 h\nčasová dotace vzdělávání: 2 h \ndotovaná cena: 100 Kč\nlektor: MUDr. Dagmar Zezulová \nanotace: Budeme rozkrývat problematiku raného traumatu u dětí v NRP – jak vzniká a jak se\nprojevuje. Dotkneme se také typů citového pouta (attachmentu)\, které s traumatem u dětí v NRP\núzce souvisí. \nPŘIHLÁSIT SE
URL:https://www.detipatridomu.cz/akce/trauma-u-deti-v-nrp-a-nasledne-poruchy-attachmentu/
LOCATION:online
CATEGORIES:Osvojitelé,Vzdělávání
ATTACH;FMTTYPE=image/jpeg:https://www.detipatridomu.cz/wp-content/uploads/2024/02/child-trauma-brain-development-neuroscience-e1707855262283.jpg
END:VEVENT
BEGIN:VEVENT
DTSTART;TZID=Europe/Prague:20240220T080000
DTEND;TZID=Europe/Prague:20240220T170000
DTSTAMP:20260426T062434
CREATED:20230922T100521Z
LAST-MODIFIED:20240112T060009Z
UID:7638-1708416000-1708448400@www.detipatridomu.cz
SUMMARY:Seminář pro odborníky - hostitelská péče pro děti z dětských domovů\, Olomouc
DESCRIPTION:srdečně Vás zveme na seminář o hostitelské péči určený pro sociální pracovníky a odbornou veřejnost. \nProč je důležité podpořit provázení dospívajících v ústavní péči osobami blízkými \n\nJednodenní seminář s časovou dotací 8 hodin má kapacitu 12-20 účastníků. \nakreditace MPSV  A2023/0401-SP/PC/VP\n\nSeminář je zaměřen na roli sociálních pracovníků při budování dlouhodobého vztahu dospívajících z ústavní výchovy s osobami blízkými\, na přípravu na ukončení ústavní výchovy a na sdílení dobré praxe. Lektoři\, kteří tento interaktivní seminář pro vás nachystali\, mají dlouholeté zkušenosti s hostitelskou péčí pro děti z dětských domovů a s přípravou jednotlivých stran. \nDotovaná cena díky podpoře Nadace O2:\n1.100 Kč / osobu\npři účasti 2 a více osob od jednoho zaměstnavatele platí cena 900 Kč / osobu\n(plná cena je 3600 Kč)\nÚčastnice semináře o jeho přínosu:\n„Naučila jsem se hodně\, protože jsem neměla informace k možné přípravě hostitelů. Skvělé jsou osobní zkušenosti lektorů. Chci také využít e-learningového kurzu\, abych mohla zájemcům dávat co nejvíce informací.“\nTermín a místo konání:  20. 2. 2024 Olomouc \nPŘIHLÁSIT SE ZDE
URL:https://www.detipatridomu.cz/akce/seminar-o-hostitelske-peci-proc-je-dulezite-podporit-provazeni-dospivajiciho-v-ustavni-peci-osobami-blizkymi-3/
LOCATION:Olomouc\, Olomouc\, Olomoucký\, Česká republika
CATEGORIES:Hostitelská péče,Vzdělávání
ATTACH;FMTTYPE=image/jpeg:https://www.detipatridomu.cz/wp-content/uploads/2023/07/DPD-spot-STILL-notext-2000x610-1-1200x366-1.jpg
END:VEVENT
BEGIN:VEVENT
DTSTART;TZID=Europe/Prague:20231207T200000
DTEND;TZID=Europe/Prague:20231207T220000
DTSTAMP:20260426T062434
CREATED:20230828T081906Z
LAST-MODIFIED:20230828T082311Z
UID:7544-1701979200-1701986400@www.detipatridomu.cz
SUMMARY:Klub pro osvojitele: Biologická rodina - nic o ní nevíme
DESCRIPTION:Termín: 7. 12. 2023. 2023 v čase 20 – 22h\nTéma: Co je to terapeutické rodičovství?\nDotovaná cena: 100 Kč / rodina\nJste již osvojitelé nebo se zatím připravujete na přijetí dítěte do své rodiny? Rezonuje ve vás téma klubu a nebo potřebujete sdílet své pocity a položit vlastní otázky? Právě pro tyto účely připravujeme kluby v online prostředí. Klubem vás tentokrát provede Bc. Tereza Koutská spolu s hostem paní Pavlou Bažantovou.\nOnline klub připravíme na platformě ZOOM.\nPŘIHLÁSIT SE NA KLUB ZDE \nDále nabízíme tyto služby pro adoptivní rodiče:\n\nporadna k adopci: pro zájemce\, náhradní rodiče a děti\n\n\nprůvodce pro adoptivní rodiny: konzultace a výběr vhodných služeb pro konkrétní rodinu\, zpracování témat (výchovná specifika\, školní docházka\, neúspěchy\, identita atd.)\n\n\nvzdělávací akce pro adoptivní rodiče: víkendové pobyty pro celé rodiny se sdílením prožitků\, online semináře\, kluby\, e-learning\, témata dle potřeb osvojitelů\, kvalitní lektoři\n\n\nodlehčovací respitní pobyty pro děti: dlouholeté zkušenosti práce s dětmi z NRP\, zkušený respitní tým\, zajištění asistentů k dětem\, integrace dětí s hendikepem\n\n\nMůžete se přihlásit také na další online kluby:\n6. 10. 2023 Jsou naše děti jiné? \n2. 11. 2023 Co je to terapeutické rodičovství? \n  \nKontakt na průvodkyni osvojením:\nBc. Tereza Koutská \nTelefon: 605 492 278 \nemail: osvojitele@detipatridomu.cz \n– – – – – – – – \nAktivity projektu „Akce pro osvojitele a osvěta problematiky NRP“ jsou podpořeny z dotačního programu Rodina (MPSV) a z dotačního programu Pardubický kraj pro rodinu.
URL:https://www.detipatridomu.cz/akce/klub-pro-osvojitele-biologicka-rodina-nic-o-ni-nevime/
CATEGORIES:Osvojitelé,Svitavy,Vzdělávání
ATTACH;FMTTYPE=image/png:https://www.detipatridomu.cz/wp-content/uploads/2023/08/Navrh-bez-nazvu-11.png
END:VEVENT
BEGIN:VEVENT
DTSTART;TZID=Europe/Prague:20231112T090000
DTEND;TZID=Europe/Prague:20231112T160000
DTSTAMP:20260426T062434
CREATED:20230517T105841Z
LAST-MODIFIED:20230524T141538Z
UID:7280-1699779600-1699804800@www.detipatridomu.cz
SUMMARY:Aktuální potřeby pěstouna – jednodenní seminář
DESCRIPTION:Do plánu vzdělávání jsme pro vás letos doplnili dva jednodenní vzdělávací semináře s návazností na společná setkání na pobytech.  \nSemináře jsou však vhodné i pro pěstouny\, kteří předchozí vzdělávání neabsolvovali. Účast na vzdělávání schvaluje vaše klíčová pracovnice. \nMísto: kanceláře Děti patří domů\, z. s.\, náměstí Míru 108/28 Svitavy  \nČasová dotace každého semináře: 6 vzdělávacích hodin \nTermíny: \nsobota 11. 11. 2023\, 9 – 16 h \nneděle 12. 11. 2023\, 9 – 16 h \nHlídání přihlášených dětí zajištěno v místě. \nNabídka mimo naši organizaci bude možná po vyhovění potřebám našich klientů. Pokud mezi ně nepatříte a máte o akci zájem\, prosím\, kontaktujte paní Ivanu Dvořákovou na email: dvorakova@detipatridomu.cz. \nPŘIHLÁSIT NA SOBOTU\nPŘIHLÁSIT NA NEDĚLI
URL:https://www.detipatridomu.cz/akce/aktualni-potreby-pestouna-jednodenni-seminar-2/
CATEGORIES:Vzdělávání
ATTACH;FMTTYPE=image/png:https://www.detipatridomu.cz/wp-content/uploads/2023/05/Navrh-bez-nazvu-2.png
END:VEVENT
BEGIN:VEVENT
DTSTART;TZID=Europe/Prague:20231111T090000
DTEND;TZID=Europe/Prague:20231111T160000
DTSTAMP:20260426T062434
CREATED:20230517T102124Z
LAST-MODIFIED:20230524T141347Z
UID:7273-1699693200-1699718400@www.detipatridomu.cz
SUMMARY:Aktuální potřeby pěstouna - jednodenní seminář
DESCRIPTION:Do plánu vzdělávání jsme pro vás letos doplnili dva jednodenní vzdělávací semináře s návazností na společná setkání na pobytech.  \nSemináře jsou však vhodné i pro pěstouny\, kteří předchozí vzdělávání neabsolvovali. Účast na vzdělávání schvaluje vaše klíčová pracovnice. \nMísto: kanceláře Děti patří domů\, z. s.\, náměstí Míru 108/28 Svitavy  \nČasová dotace každého semináře: 6 vzdělávacích hodin \nTermíny: \nsobota 11. 11. 2023\, 9 – 16 h \nneděle 12. 11. 2023\, 9 – 16 h \nHlídání přihlášených dětí zajištěno v místě. \nNabídka mimo naši organizaci bude možná po vyhovění potřebám našich klientů. Pokud mezi ně nepatříte a máte o akci zájem\, prosím\, kontaktujte paní Ivanu Dvořákovou na email: dvorakova@detipatridomu.cz. \nPŘIHLÁSIT NA SOBOTU\nPŘIHLÁSIT NA NEDĚLI
URL:https://www.detipatridomu.cz/akce/aktualni-potreby-pestouna-jednodenni-seminar/
CATEGORIES:Vzdělávání
ATTACH;FMTTYPE=image/png:https://www.detipatridomu.cz/wp-content/uploads/2023/05/Navrh-bez-nazvu-2.png
END:VEVENT
BEGIN:VEVENT
DTSTART;VALUE=DATE:20231107
DTEND;VALUE=DATE:20231108
DTSTAMP:20260426T062434
CREATED:20230731T090349Z
LAST-MODIFIED:20230920T095443Z
UID:7515-1699315200-1699401599@www.detipatridomu.cz
SUMMARY:Seminář o hostitelské péči Proč je důležité podpořit provázení dospívajícího v ústavní péči osobami blízkými
DESCRIPTION:srdečně Vás zveme na seminář o hostitelské péči určený pro sociální pracovníky a odbornou veřejnost. \nProč je důležité podpořit provázení dospívajících v ústavní péči osobami blízkými \n\nJednodenní seminář s časovou dotací 8 hodin má kapacitu 12-20 účastníků. \nakreditace MPSV  A2023/0401-SP/PC/VP\n\nSeminář je zaměřen na roli sociálních pracovníků při budování dlouhodobého vztahu dospívajících z ústavní výchovy s osobami blízkými\, na přípravu na ukončení ústavní výchovy a na sdílení dobré praxe. Lektoři\, kteří tento interaktivní seminář pro vás nachystali\, mají dlouholeté zkušenosti s hostitelskou péčí pro děti z dětských domovů a s přípravou jednotlivých stran. \nTermíny a místa konání:  \n\n07. 11. 2023 Praha \n22. 2. 2024 Olomouc\n23. 01. 2024 České Budějovice\n19. 03. 2024 Brno\n\nInformace k ceně:  \n\ndotovaná cena pro vás je 1.100 Kč / osobu  (plná cena je 3600 Kč / osobu)\nrealizaci semináře podporuje Nadace O2\n\nPŘIHLÁSIT SE – PRAHA
URL:https://www.detipatridomu.cz/akce/seminar-proc-je-dulezite-podporit-provazeni-dospivajiciho-v-ustavni-peci-osobami-blizkymi-2/
CATEGORIES:Hostitelská péče,Svitavy,Vzdělávání
ATTACH;FMTTYPE=image/jpeg:https://www.detipatridomu.cz/wp-content/uploads/2023/07/DPD-spot-STILL-notext-2000x610-1-1200x366-1.jpg
END:VEVENT
BEGIN:VEVENT
DTSTART;TZID=Europe/Prague:20231102T200000
DTEND;TZID=Europe/Prague:20231102T220000
DTSTAMP:20260426T062434
CREATED:20230828T081337Z
LAST-MODIFIED:20230828T104248Z
UID:7542-1698955200-1698962400@www.detipatridomu.cz
SUMMARY:Klub pro osvojitele: Co je to terapeutické rodičovství?
DESCRIPTION:Termín: 2. 11. 2023. 2023 v čase 20 – 22h\nTéma: Co je to terapeutické rodičovství?\nDotovaná cena: 100 Kč / rodina\nJste již osvojitelé nebo se zatím připravujete na přijetí dítěte do své rodiny? Rezonuje ve vás téma klubu a nebo potřebujete sdílet své pocity a položit vlastní otázky? Právě pro tyto účely připravujeme kluby v online prostředí. Klubem vás tentokrát provede Bc. Tereza Koutská spolu s hostem paní Mgr. Lenkou Patočkovou.\nOnline klub připravíme na platformě ZOOM.\nPŘIHLÁSIT SE NA KLUB ZDE \nDále nabízíme tyto služby pro adoptivní rodiče:\n\nporadna k adopci: pro zájemce\, náhradní rodiče a děti\n\n\nprůvodce pro adoptivní rodiny: konzultace a výběr vhodných služeb pro konkrétní rodinu\, zpracování témat (výchovná specifika\, školní docházka\, neúspěchy\, identita atd.)\n\n\nvzdělávací akce pro adoptivní rodiče: víkendové pobyty pro celé rodiny se sdílením prožitků\, online semináře\, kluby\, e-learning\, témata dle potřeb osvojitelů\, kvalitní lektoři\n\n\nodlehčovací respitní pobyty pro děti: dlouholeté zkušenosti práce s dětmi z NRP\, zkušený respitní tým\, zajištění asistentů k dětem\, integrace dětí s hendikepem\n\n\nMůžete se přihlásit také na další online kluby:\n6. 10. 2023 Jsou naše děti jiné? \n7. 12. 2023 Biologická rodina – nic o ní nevíme \n  \nKontakt na průvodkyni osvojením:\nBc. Tereza Koutská \nTelefon: 605 492 278 \nemail: osvojitele@detipatridomu.cz \n– – – – – – – – \nAktivity projektu „Akce pro osvojitele a osvěta problematiky NRP“ jsou podpořeny z dotačního programu Rodina (MPSV) a z dotačního programu Pardubický kraj pro rodinu.
URL:https://www.detipatridomu.cz/akce/klub-pro-osvojitele-co-je-to-terapeuticke-rodicovstvi/
CATEGORIES:Osvojitelé,Svitavy,Vzdělávání
ATTACH;FMTTYPE=image/jpeg:https://www.detipatridomu.cz/wp-content/uploads/2023/08/osvojitele-terapeuticke-rodicovstvi.jpg
END:VEVENT
BEGIN:VEVENT
DTSTART;TZID=Europe/Prague:20231007T083000
DTEND;TZID=Europe/Prague:20231007T160000
DTSTAMP:20260426T062434
CREATED:20230829T055216Z
LAST-MODIFIED:20230916T121911Z
UID:7554-1696667400-1696694400@www.detipatridomu.cz
SUMMARY:Hostitelská péče - seminář pro veřejnost Praha
DESCRIPTION:srdečně Vás zveme na Seminář pro veřejnost o hostitelské péči. \nSeminář je zaměřen na představení hostitelské péče a našich zkušeností s ní. Vzdělávací program\, kterým Vás provedou naši lektoři\, má časovou dotaci 8 hodin. \n\n\n \nTermín: 7.10. 2023 od 8:30 do 16:00 hodin \nMísto: Praha 2\, Korunní 810\, Vinohrady \nCena : 950 Kč             \nV rámci semináře není zajištěna strava. \nPo vyplnění přihlášky vám zašleme e-mail s údaji k platbě a přesnou adresou konání semináře. \n\nPŘIHLÁSIT SE NA SEMINÁŘ
URL:https://www.detipatridomu.cz/akce/priprava-pro-zadatele-o-hostitelskou-peci-seminar-praha/
CATEGORIES:Hostitelská péče,Vzdělávání
ATTACH;FMTTYPE=image/png:https://www.detipatridomu.cz/wp-content/uploads/2023/08/Termin-4.png
END:VEVENT
BEGIN:VEVENT
DTSTART;TZID=Europe/Prague:20231005T200000
DTEND;TZID=Europe/Prague:20231005T220000
DTSTAMP:20260426T062434
CREATED:20230828T075938Z
LAST-MODIFIED:20230913T092828Z
UID:7537-1696536000-1696543200@www.detipatridomu.cz
SUMMARY:Klub pro osvojitele: Jsou naše děti jiné?
DESCRIPTION:Termín: čtvrtek 5. 10. 2023 v čase 20 – 22h\nTéma: Jsou naše děti jiné?\nDotovaná cena: 100 Kč / rodina\nJste již osvojitelé nebo se zatím připravujete na přijetí dítěte do své rodiny? Rezonuje ve vás téma klubu a nebo potřebujete sdílet své pocity a položit vlastní otázky? Právě pro tyto účely připravujeme kluby v online prostředí. Klubem vás tentokrát provede Bc. Tereza Koutská spolu s hostem paní MUDr. Dagmar Zezulovou.\nOnline klub připravíme na platformě ZOOM.\nPŘIHLÁSIT SE NA KLUB ZDE \nDále nabízíme tyto služby pro adoptivní rodiče:\n\nporadna k adopci: pro zájemce\, náhradní rodiče a děti\n\n\nprůvodce pro adoptivní rodiny: konzultace a výběr vhodných služeb pro konkrétní rodinu\, zpracování témat (výchovná specifika\, školní docházka\, neúspěchy\, identita atd.)\n\n\nvzdělávací akce pro adoptivní rodiče: víkendové pobyty pro celé rodiny se sdílením prožitků\, online semináře\, kluby\, e-learning\, témata dle potřeb osvojitelů\, kvalitní lektoři\n\n\nodlehčovací respitní pobyty pro děti: dlouholeté zkušenosti práce s dětmi z NRP\, zkušený respitní tým\, zajištění asistentů k dětem\, integrace dětí s hendikepem\n\n\nMůžete se přihlásit také na další online kluby:\n2. 11. 2023 Co je to terapeutické rodičovství? \n7. 12. 2023 Biologická rodina – nic o ní nevíme \n  \nKontakt na průvodkyni osvojením:\nBc. Tereza Koutská \nTelefon: 605 492 278 \nemail: osvojitele@detipatridomu.cz \n– – – – – – – – \nAktivity projektu „Akce pro osvojitele a osvěta problematiky NRP“ jsou podpořeny z dotačního programu Rodina (MPSV) a z dotačního programu Pardubický kraj pro rodinu.
URL:https://www.detipatridomu.cz/akce/klub-pro-osvojitele-jsou-nase-deti-jine/
CATEGORIES:Osvojitelé,Svitavy,Vzdělávání
ATTACH;FMTTYPE=image/jpeg:https://www.detipatridomu.cz/wp-content/uploads/2023/08/Klub-pro-osvojitele-rijen-oprava-terminu.jpg
END:VEVENT
BEGIN:VEVENT
DTSTART;TZID=Europe/Prague:20230919T150000
DTEND;TZID=Europe/Prague:20230919T180000
DTSTAMP:20260426T062434
CREATED:20230712T114513Z
LAST-MODIFIED:20230830T094246Z
UID:7465-1695135600-1695146400@www.detipatridomu.cz
SUMMARY:Den otevřených dveří ve Svitavách
DESCRIPTION:🍀 Zajímá vás péče o děti\, které nemohou žít ve své biologické rodině? \n🍀 Chcete se dozvědět o dobrovolnickém programu „Velký kamarád“ pro studenty a dospělé? \n🍀 Láká vás nahlédnout do zázemí neziskovky\, která již 15 let působí ve Svitavách? \n🍀 Rádi byste okoukli naši novou komunitní místnost? \n🍀 Znáte nás a rádi byste s námi prostě jen poseděli u kávy? \nVšichni jste zváni na Den otevřených dveří\, přijďte za námi 19. září v čase mezi 15:00 a 18:00 na náměstí míru 108/28. Vytvořme společně prostor pro sdílení\, dotazy\, vyprávění\, a to vše s malým občerstvením a zázemím pro děti.\nv 17:00 beseda „Proč mají děti vyrůstat v rodinách a ne v ústavech“ s MUDr. D. Zezulovou.\n  \nTěšíme se na setkání.\n  \nAkci připravujeme v rámci Týdne pro pěstounství v Pardubickém kraji. \nDoprovodný program týdne ve Svitavách:  \n\nvýstava fotografií o pěstounství s názvem „Rodina na 100%“\, výstavní prostor Fabrika\, 18. – 29. 9. 2023.\nDen otevřených dveří místního pracoviště OSPOD Svitavy\nBěh pro pěstounství kolem Rosničky\, organizátoři: místní pracoviště OSPOD a Děti patří domů\, z. s.\n\n 
URL:https://www.detipatridomu.cz/akce/den-otevrenych-dveri-ve-svitavach/
CATEGORIES:Dobrovolník,Hostitelská péče,Osvojitelé,Respit,Svitavy,Vzdělávání
ATTACH;FMTTYPE=image/jpeg:https://www.detipatridomu.cz/wp-content/uploads/2023/04/IMG_20230208_110300-Jirina-Krystufkova-scaled.jpg
END:VEVENT
BEGIN:VEVENT
DTSTART;TZID=Europe/Prague:20230609T170000
DTEND;TZID=Europe/Prague:20230611T130000
DTSTAMP:20260426T062434
CREATED:20230426T134616Z
LAST-MODIFIED:20230518T034926Z
UID:7207-1686330000-1686488400@www.detipatridomu.cz
SUMMARY:VZDĚLÁVACÍ POBYT PRO OSVOJITELE A JEJICH RODINY
DESCRIPTION:Víkendový pobyt pro rodiny osvojitelů \nKdy: 9. – 11. 6. 2023 \nKde: Hotel u Loubů\, Tři Studně \nTéma:  Identita dítěte\, sdílení a pojmenování potřeb rodiny \nvzdělávací bloky pro rodiče a respitní program pro děti \nProgram bude změřený na sdílení a pojmenování potřeb osvojitelů a jejich dětí (nácvik dovedností\, informace o raném traumatu\, osvojování si účinných výchovných prostředků a postupů\, sdílení zkušeností v rámci školní docházky dětí\, či vyrovnávání se s informací\, že je dítě osvojené). Lektorské vedení zajistí zkušené lektorky\, které mají vlastní dlouhodobé zkušenosti s různými typy náhradní rodinné péče. \nPlná cena: 3.100 Kč rodič\, 2.900 Kč dítě \nDotovaná cena pro osvojitelské rodiny: 1.600 Kč rodič\, 800 Kč dítě \nCena zahrnuje: ubytování na 2 noci\, plná penze\, vzdělávací bloky\, pomůcky a respitní program s dětmi v čase vzdělávání. \n  \nChci přihlásit naši rodinu
URL:https://www.detipatridomu.cz/akce/vzdelavaci-pobyt-pro-osvojitele-a-jejich-rodiny/
CATEGORIES:Svitavy,Vzdělávání
ATTACH;FMTTYPE=image/jpeg:https://www.detipatridomu.cz/wp-content/uploads/2023/04/osvojitele.jpeg
END:VEVENT
BEGIN:VEVENT
DTSTART;TZID=Europe/Prague:20221106T090000
DTEND;TZID=Europe/Prague:20221106T140000
DTSTAMP:20260426T062434
CREATED:20221011T131556Z
LAST-MODIFIED:20221011T132708Z
UID:6963-1667725200-1667743200@www.detipatridomu.cz
SUMMARY:Valná hromada Děti patří domů\, z. s.
DESCRIPTION:Milí členové a příznivci Děti patří domů\, z. s.\, \npo roce vás opět zveme na Valnou hromadu Děti patří domů\, z. s. Letos se jedná o Valnou hromadu volební. \nValná hromada se bude konat výjimečně v neděli 6. 11. 2022 na Skofce ve Svitavách. Začínat budeme v 9h a končit nejpozději v 14h. Pro ty z vás\, kdo jste na Skofce ještě nebyli\, adresa je Náměstí míru 80 – vchod je však zezadu z ulice Wolkerova alej\, vchod do zahrady naproti pekárně Nopek\, brána je označena cedulí DPD. \nK projednání budou tyto body programu: \n\npřijetí nových členů VH\nschválení výsledků hospodaření za rok 2021\nschválení účetní závěrky a účetního auditu za rok 2021\nzpráva o činnosti Správní rady\nzpráva o činnosti organizace včetně aktivně probíhajících projektů\nvolby do Správní rady
URL:https://www.detipatridomu.cz/akce/valna-hromada-deti-patri-domu-z-s/
CATEGORIES:Dobrovolník,Hostitelská péče,Respit,Svitavy,Vzdělávání
ATTACH;FMTTYPE=image/png:https://www.detipatridomu.cz/wp-content/uploads/2022/10/Pozvanka-na-VH-2022-web.png
ORGANIZER;CN="Lenka Pato%C4%8Dkov%C3%A1":MAILTO:patockova@detipatridomu.cz
END:VEVENT
END:VCALENDAR