BEGIN:VCALENDAR
VERSION:2.0
PRODID:-//Děti patří domů, z. s. - ECPv6.15.20//NONSGML v1.0//EN
CALSCALE:GREGORIAN
METHOD:PUBLISH
X-WR-CALNAME:Děti patří domů, z. s.
X-ORIGINAL-URL:https://www.detipatridomu.cz
X-WR-CALDESC:Akce na Děti patří domů, z. s.
REFRESH-INTERVAL;VALUE=DURATION:PT1H
X-Robots-Tag:noindex
X-PUBLISHED-TTL:PT1H
BEGIN:VTIMEZONE
TZID:Europe/Prague
BEGIN:DAYLIGHT
TZOFFSETFROM:+0100
TZOFFSETTO:+0200
TZNAME:CEST
DTSTART:20250330T010000
END:DAYLIGHT
BEGIN:STANDARD
TZOFFSETFROM:+0200
TZOFFSETTO:+0100
TZNAME:CET
DTSTART:20251026T010000
END:STANDARD
BEGIN:DAYLIGHT
TZOFFSETFROM:+0100
TZOFFSETTO:+0200
TZNAME:CEST
DTSTART:20260329T010000
END:DAYLIGHT
BEGIN:STANDARD
TZOFFSETFROM:+0200
TZOFFSETTO:+0100
TZNAME:CET
DTSTART:20261025T010000
END:STANDARD
BEGIN:DAYLIGHT
TZOFFSETFROM:+0100
TZOFFSETTO:+0200
TZNAME:CEST
DTSTART:20270328T010000
END:DAYLIGHT
BEGIN:STANDARD
TZOFFSETFROM:+0200
TZOFFSETTO:+0100
TZNAME:CET
DTSTART:20271031T010000
END:STANDARD
END:VTIMEZONE
BEGIN:VEVENT
DTSTART;TZID=Europe/Prague:20261105T200000
DTEND;TZID=Europe/Prague:20261105T220000
DTSTAMP:20260425T233035
CREATED:20260203T123153Z
LAST-MODIFIED:20260316T100850Z
UID:9336-1793908800-1793916000@www.detipatridomu.cz
SUMMARY:2668. Online klub: Možnosti psychoterapie při práci s raným traumatem
DESCRIPTION:Čtvrtek 5. 11. 2026\, 20 – 22h\nLektor: Mgr. Jiřina Holasová.\nVedoucí akce: MUDr. Dagmar Zezulová\, zezulova@detipatridomu.cz \nMísto: on-line\nPlná cena: 500 Kč\nDotovaná cena pro osvojitele: 0 Kč \nZkušená terapeutka nás provede možnostmi práce s dětmi\, jimž rané trauma ovlivnilo život \n  \nPŘIHLÁSIT SE
URL:https://www.detipatridomu.cz/akce/2668-online-klub-moznosti-psychoterapie-pri-praci-s-ranym-traumatem/
CATEGORIES:Osvojitelé
ATTACH;FMTTYPE=image/png:https://www.detipatridomu.cz/wp-content/uploads/2026/02/online-adopcaci.png
END:VEVENT
BEGIN:VEVENT
DTSTART;VALUE=DATE:20261114
DTEND;VALUE=DATE:20261115
DTSTAMP:20260425T233035
CREATED:20260201T070033Z
LAST-MODIFIED:20260201T074924Z
UID:9219-1794614400-1794700799@www.detipatridomu.cz
SUMMARY:2626. Potřeby jednotlivců v náhradní rodině  a důsledky jejich ignorování
DESCRIPTION:Vzdělávání pro pěstouny: Sobota 14. 11. 2026 \nLektor: PhDr. Štefan Šarközy \nČasová dotace vzdělávání: 6 h \nVedoucí akce: Jana Kubíčková\, jana@detipatridomu.cz \nMísto: Místo: Svitavy\, komunitní místnost DPD \nPlná cena: 1.800 Kč \nCena pro klienta DPD: 0 Kč \n  \nSupervizně vedené setkání\, lektor pracuje s tématy a kazuistikami\, které přináší účastníci. Lektor je připraven poskytnout odborné informace k tématům NRP. \n  \nPŘIHLÁSIT SE
URL:https://www.detipatridomu.cz/akce/2626-potreby-jednotlivcu-v-nahradni-rodine-a-dusledky-jejich-ignorovani/
CATEGORIES:Pěstouni,Vzdělávání
ATTACH;FMTTYPE=image/png:https://www.detipatridomu.cz/wp-content/uploads/2026/02/vzdelavani-pro-pestouny-2.png
END:VEVENT
BEGIN:VEVENT
DTSTART;VALUE=DATE:20261115
DTEND;VALUE=DATE:20261116
DTSTAMP:20260425T233035
CREATED:20260201T070041Z
LAST-MODIFIED:20260201T075256Z
UID:9221-1794700800-1794787199@www.detipatridomu.cz
SUMMARY:2627. Potřeby jednotlivců v náhradní rodině  a důsledky jejich ignorování
DESCRIPTION:Vzdělávání pro pěstouny: neděle 15. 11. 2026 \nLektor: PhDr. Štefan Šarközy \nČasová dotace vzdělávání: 6 h \nVedoucí akce: Jana Kubíčková\, jana@detipatridomu.cz \nMísto: Svitavy\, komunitní místnost DPD \nPlná cena: 1.800 Kč \nCena pro klienta DPD: 0 Kč \n  \nSupervizně vedené setkání\, lektor pracuje s tématy a kazuistikami\, které přináší účastníci. Lektor je připraven poskytnout odborné informace k tématům NRP. \n  \nPŘIHLÁSIT SE
URL:https://www.detipatridomu.cz/akce/2627-potreby-jednotlivcu-v-nahradni-rodine-a-dusledky-jejich-ignorovani/
CATEGORIES:Pěstouni,Vzdělávání
ATTACH;FMTTYPE=image/png:https://www.detipatridomu.cz/wp-content/uploads/2026/02/vzdelavani-pro-pestouny-2.png
END:VEVENT
BEGIN:VEVENT
DTSTART;VALUE=DATE:20261120
DTEND;VALUE=DATE:20261123
DTSTAMP:20260425T233035
CREATED:20260201T070040Z
LAST-MODIFIED:20260201T075014Z
UID:9250-1795132800-1795391999@www.detipatridomu.cz
SUMMARY:2608. Respitní víkendový pobyt Grinch
DESCRIPTION:Termín: 20. – 22. 11. 2026 \nMísto: KC Trstěnice \nPlná cena: 4.000 Kč \nCena pro dítě našeho klienta: 700 Kč  \n(příspěvek na stravu a ubytování) \nVedoucí akce: Kristýna Lampárková\, kristana@detipatridomu.cz \n  \nPojďme zachránit Vánoce před Grinchem a společně nasát pravou vánoční atmosféru při výrobě vánočních ozdob\, poslouchání koled\, zkoušení tradičních zvyků a ochutnávkou tradičního cukroví \n  \nPŘIHLÁSIT SE
URL:https://www.detipatridomu.cz/akce/2608-grinch/
CATEGORIES:Respit
ATTACH;FMTTYPE=image/png:https://www.detipatridomu.cz/wp-content/uploads/2026/02/respitni-pobyt-3.png
END:VEVENT
BEGIN:VEVENT
DTSTART;TZID=Europe/Prague:20261203T200000
DTEND;TZID=Europe/Prague:20261203T220000
DTSTAMP:20260425T233035
CREATED:20260203T125006Z
LAST-MODIFIED:20260316T100805Z
UID:9338-1796328000-1796335200@www.detipatridomu.cz
SUMMARY:2669. Online klub: Víte\, co je to SVP a co může dětem nabídnout?
DESCRIPTION:Čtvrtek 3. 12. 2026\, 20 – 22 h\nLektor: Mgr. Jan Mazák.\nVedoucí akce: MUDr. Dagmar Zezulová\, zezulova@detipatridomu.cz \nMísto: on-line\nPlná cena: 500 Kč\nDotovaná cena pro osvojitele: 0 Kč \nStředisko výchovné péče je vzdělávací institucí\, která může být oporou rodičů a pomocníkem dětí v různých\nobtížných fázích jejich vývoje. Beseda s psychologem SVP Alfa přiblíží možnosti této služby \n  \nPŘIHLÁSIT SE
URL:https://www.detipatridomu.cz/akce/2669-online-klub-vite-co-je-to-svp-a-co-muze-detem-nabidnout/
CATEGORIES:Osvojitelé
ATTACH;FMTTYPE=image/png:https://www.detipatridomu.cz/wp-content/uploads/2026/02/online-adopcaci.png
END:VEVENT
END:VCALENDAR